BEGIN:VCALENDAR
PRODID:-//Microsoft Corporation//Outlook 11.0 MIMEDIR//EN
VERSION:2.0
METHOD:PUBLISH
BEGIN:VEVENT
DTSTART:20260422T200000
DTEND:20260429T220000
LOCATION:Schulhaus Högler, Singsaal Wasserfurrenstrasse 7, 8600 Dübendorf
TRANSP:OPAQUE
RRULE:FREQ=WEEKLY;INTERVAL=1;UNTIL=20260429T220000;WKST=MO;BYDAY=WE
UID:20556b67-afd1-4af6-8e16-1e1097c31e96-0
DTSTAMP:20260422T200000
DESCRIPTION:Wollten Sie schon immer mal ein Instrument spielen, aber hatten bisher nie die Gelegenheit dazu? Möchten Sie gerne mit Ihren Kindern mit musizieren, können aber bis jetzt kein Instrument spielen? Ihr verstaubtes Instrument will endlich wieder gespielt werden?\nDann ist die Bläserklasse Dübendorf genau das Richtige für Sie!  \n\nAlle Informationen finden Sie auf unserer Homepage.\n\nhttps://www.blaeserklasse-duebendorf.ch\n\nKontakt\nBläserklasse Dübendorf\nStadtmusik Dübendorf\nAndreas Gubler\nOrganisation\n076 416 02 13\n\nVerfügbarkeit / Datum, Zeit\n8.5.2024 - 29.4.2026 20:00 - 22:00 Mi\n\nAm Mittwoch 17.04.2024 Findet im Schulhaus Högler (Singsaal) ein Infoabend statt. Anmeldung via Homepage oder info@blaeserklasse-duebendorf.ch\n\nStart der Bläserklasse ist geplant auf Anfang Mai 2024\n\nPreis\n450.- / pro Semester\n\nVorverkauf\ninfo@blaeserklasse-duebendorf.ch\nwww.blaeserklasse-duebendorf.ch/anmeldung\n\n\nDas Angebot im Detail: https://www.guidle.com/angebote/1056901270/blaserklasse_dubendorf/dubendorf\nQuelle: www.guidle.com
SUMMARY:Bläserklasse Dübendorf
PRIORITY:5
X-MICROSOFT-CDO-IMPORTANCE:1
CLASS:PUBLIC
BEGIN:VALARM
TRIGGER:-P1D
ACTION:DISPLAY
DESCRIPTION:Reminder
END:VALARM
END:VEVENT
BEGIN:VEVENT
DTSTART:20260422T200000
DTEND:20260429T220000
LOCATION:Schulhaus Högler, Singsaal Wasserfurrenstrasse 7, 8600 Dübendorf
TRANSP:OPAQUE
RRULE:FREQ=WEEKLY;INTERVAL=1;UNTIL=20260429T220000;WKST=MO;BYDAY=WE
UID:20556b67-afd1-4af6-8e16-1e1097c31e96-1
DTSTAMP:20260422T200000
DESCRIPTION:Wollten Sie schon immer mal ein Instrument spielen, aber hatten bisher nie die Gelegenheit dazu? Möchten Sie gerne mit Ihren Kindern mit musizieren, können aber bis jetzt kein Instrument spielen? Ihr verstaubtes Instrument will endlich wieder gespielt werden?\nDann ist die Bläserklasse Dübendorf genau das Richtige für Sie!  \n\nAlle Informationen finden Sie auf unserer Homepage.\n\nhttps://www.blaeserklasse-duebendorf.ch\n\nKontakt\nBläserklasse Dübendorf\nStadtmusik Dübendorf\nAndreas Gubler\nOrganisation\n076 416 02 13\n\nVerfügbarkeit / Datum, Zeit\n8.5.2024 - 29.4.2026 20:00 - 22:00 Mi\n\nAm Mittwoch 17.04.2024 Findet im Schulhaus Högler (Singsaal) ein Infoabend statt. Anmeldung via Homepage oder info@blaeserklasse-duebendorf.ch\n\nStart der Bläserklasse ist geplant auf Anfang Mai 2024\n\nPreis\n450.- / pro Semester\n\nVorverkauf\ninfo@blaeserklasse-duebendorf.ch\nwww.blaeserklasse-duebendorf.ch/anmeldung\n\n\nDas Angebot im Detail: https://www.guidle.com/angebote/1056901270/blaserklasse_dubendorf/dubendorf\nQuelle: www.guidle.com
SUMMARY:Bläserklasse Dübendorf
PRIORITY:5
X-MICROSOFT-CDO-IMPORTANCE:1
CLASS:PUBLIC
BEGIN:VALARM
TRIGGER:-P1D
ACTION:DISPLAY
DESCRIPTION:Reminder
END:VALARM
END:VEVENT
END:VCALENDAR