BEGIN:VCALENDAR
PRODID:-//Microsoft Corporation//Outlook 11.0 MIMEDIR//EN
VERSION:2.0
METHOD:PUBLISH
BEGIN:VEVENT
DTSTART:20260513T200000
LOCATION:Kongresszentrum Thurgauerhof, Grosser Saal Felsenstrasse 6, 8570 Weinfelden
TRANSP:OPAQUE
SEQUENCE:0
UID:5a0ee4b0-b278-4fba-a6b5-45af6aa875b1-0
DTSTAMP:20260513T200000
DESCRIPTION:Der Musikverein Weinfelden freut sich auf viele Besucher zu seinem Frühlingskonzert am Mittwoch, 13. Mai 2026, um 20.00 Uhr im grossen Saal des Thurgauerhofs. Für den musikalischen Auftakt sorgt wieder einmal mehr die "Jungi Musig on Thur" mit schmissigen Melodien!\nGeniessen Sie einen wunderbaren Konzertabend mit abwechslungsreicher Musik, Tombola, Festwirtschaft und Barbetrieb!\nWir freuen uns auf jeden Konzertbesucher!\n\nhttp://www.musikverein-weinfelden.ch/\n\nKontakt\nMusikverein Weinfelden\nMichael Brauchli\nÖffentlichkeitsarbeit\n\nVerfügbarkeit / Datum, Zeit\n13.5.2026 20:00 - \n\nPreis\nEintritt gratis! Freiwillige Kollekte\n\n\nDas Angebot im Detail: https://www.guidle.com/angebote/1065502748/fruhlingskonzert_musikverein_weinfelden/weinfelden\nQuelle: https://www.guidle.com
SUMMARY:Frühlingskonzert Musikverein Weinfelden
PRIORITY:5
X-MICROSOFT-CDO-IMPORTANCE:1
CLASS:PUBLIC
BEGIN:VALARM
TRIGGER:-P1D
ACTION:DISPLAY
DESCRIPTION:Reminder
END:VALARM
END:VEVENT
END:VCALENDAR