BEGIN:VCALENDAR
PRODID:-//Microsoft Corporation//Outlook 11.0 MIMEDIR//EN
VERSION:2.0
METHOD:PUBLISH
BEGIN:VEVENT
DTSTART:20260822T100000
DTEND:20260822T110000
LOCATION:Regionalbibliothek Weinfelden Freiestrasse 4, 8570 Weinfelden
TRANSP:OPAQUE
SEQUENCE:0
UID:1c1eb52e-8a7a-42de-bbbb-566de2ffb3fa-0
DTSTAMP:20260822T100000
DESCRIPTION:Du hast fleissig gelesen und deinen Lesepass voll? Dann komm vorbei und nimm an der Schlussverlosung für tolle Preise teil!\n\nWir freuen uns auf viele Kinder und Jugendliche.\n\nKontakt\nRegionalbibliothek Weinfelden\nFreiestrasse 4 B\n8570 Weinfelden\n071 622 35 54\n\nVerfügbarkeit / Datum, Zeit\n22.8.2026 10:00 - 11:00\n\nPreis\ngratis\n\n\nDas Angebot im Detail: https://www.guidle.com/angebote/1083938019/schlussevent_weinfelder_lesesommer_2026/weinfelden\nQuelle: https://www.guidle.com
SUMMARY:Schlussevent Weinfelder Lesesommer 2026
PRIORITY:5
X-MICROSOFT-CDO-IMPORTANCE:1
CLASS:PUBLIC
BEGIN:VALARM
TRIGGER:-P1D
ACTION:DISPLAY
DESCRIPTION:Reminder
END:VALARM
END:VEVENT
END:VCALENDAR