BEGIN:VCALENDAR
PRODID:-//Microsoft Corporation//Outlook 11.0 MIMEDIR//EN
VERSION:2.0
METHOD:PUBLISH
BEGIN:VEVENT
DTSTART:20260406T090000
DTEND:20261016T170000
LOCATION:Schöntalstrasse 38, 8486 Rikon im Tösstal
TRANSP:OPAQUE
RRULE:FREQ=WEEKLY;INTERVAL=1;UNTIL=20261016T170000;WKST=MO;BYDAY=MO,TU,WE,TH,FR,SA,SU
UID:530f93f9-072d-40d7-9fea-d4909ecb78b3-0
DTSTAMP:20260406T090000
DESCRIPTION:Wir sind ein Mitspielzirkus und reisen mit der Überzeugung, dass alle Menschen Zirkus machen können, durch die Schweiz. Wir machen Halt bei Primarschulen, Heilpädagogischen Schulen und Institutionen.\n\nDer Mitspielzirkus Circolino Pipistrello macht dort Halt, wo er engagiert wird. Mitmachen können alle Menschen; ob jung oder alt, mit oder ohne Beeinträchtigung. Die Zirkuswelt bringt unterschiedlichste Talente und Leidenschaften zusammen und bietet Raum für Vielfalt und Andersartigkeit. Jede Woche bauen wir unser Zirkuszelt an einem anderen Ort auf, um Menschen den Traum vom Zirkus zu ermöglichen. Wir legen dabei Wert auf ganzheitliche Erlebniswelten, was bedeutet, dass die Teilnehmenden vom Zeltaufbau am Montag bis zu Ihrem grossen Auftritt Ende Woche das Zirkusleben in all seinen Facetten kennenlernen.\n\nWir kommen mit einem 17-köpfigen Team, einem Zweimast-Zirkuszelt, das 320 Zuschauer:innen fasst und rund 20 Zirkuswagen, gezogen von Oldtimer-Traktoren.\n\nMehr Informationen zum Projekt und freien Wochen erhaltet ihr bei unserer Tourneeplanung: circolino@pipistrello.ch\n\nhttps://pipistrello.ch\n\nKontakt\nCircolino Pipistrello\nSchöntalstrasse 38\n8486 Rikon\n079 357 88 47\n\nVerfügbarkeit / Datum, Zeit\n6.4.2026 - 16.10.2026 09:00 - 17:00\n\nPreis\nPauschalpreis auf Anfrage\n\n\nDas Angebot im Detail: https://www.guidle.com/angebote/1096534461/zirkus_selber_machen_-_projektwoche_fur_die_ganze_schule_oder_als_ferienprojekt/rikon_im_tosstal\nQuelle: www.guidle.com
SUMMARY:Zirkus selber machen - Projektwoche für die ganze Schule oder als Ferienprojekt 
PRIORITY:5
X-MICROSOFT-CDO-IMPORTANCE:1
CLASS:PUBLIC
BEGIN:VALARM
TRIGGER:-P1D
ACTION:DISPLAY
DESCRIPTION:Reminder
END:VALARM
END:VEVENT
END:VCALENDAR