BEGIN:VCALENDAR
PRODID:-//Microsoft Corporation//Outlook 11.0 MIMEDIR//EN
VERSION:2.0
METHOD:PUBLISH
BEGIN:VEVENT
DTSTART:20260423
LOCATION:Avenue de la Gare, 1920 Martigny
TRANSP:OPAQUE
SEQUENCE:0
UID:e7764f2e-731b-4374-a3af-a0f527ab20db-0
DTSTAMP:20260423T120000
DESCRIPTION:1 Mal pro Woche: Nutzen Sie den Markt in der Stadt Martigny, um sich mit allerlei Artikeln und Produkten einzudecken.\n\nVon Januar bis Dezember empfängt Sie der Stadtmarkt jeden Donnerstag, ausser: \n-Die ersten beiden Donnerstage des Jahres \n-An Feiertagen \n\nÖffnungszeiten des Marktes:\nBeginn des Verkaufs: 08:00 Uhr\nEnde des Verkaufs: 13:30 Uhr\n\nUm Aussteller zu werden, wenden Sie sich bitte direkt an UCOM.\n\nhttps://www.ucom-martigny.com/\n\nKontakt\nUCOM\nUnion des commerçants de Martigny\n1920 Martigny\n+41 79 280 75 01\n\nVerfügbarkeit / Datum, Zeit\n23.4.2026 \n30.4.2026 \n7.5.2026 \n21.5.2026 \n28.5.2026 \n11.6.2026 \n18.6.2026 \n25.6.2026 \n\nAußer an Feiertagen und in den ersten beiden Januarwochen.\n\n\nDas Angebot im Detail: https://www.guidle.com/angebote/1096575056/marche_hebdomadaire_du_jeudi_matin_deutsch/martigny\nQuelle: https://www.guidle.com
SUMMARY:Marché Hebdomadaire du jeudi matin [Deutsch]
PRIORITY:5
X-MICROSOFT-CDO-IMPORTANCE:1
CLASS:PUBLIC
BEGIN:VALARM
TRIGGER:-P1D
ACTION:DISPLAY
DESCRIPTION:Reminder
END:VALARM
END:VEVENT
END:VCALENDAR