BEGIN:VCALENDAR
PRODID:-//Microsoft Corporation//Outlook 11.0 MIMEDIR//EN
VERSION:2.0
METHOD:PUBLISH
BEGIN:VEVENT
DTSTART:20260426T153000
LOCATION:Sternwarte Planetarium SIRIUS Schwandenstrasse 131, 3657 Schwanden (Sigriswil)
TRANSP:OPAQUE
SEQUENCE:0
UID:90a3cb87-90d3-486b-bf2d-ceeab01eb02f-0
DTSTAMP:20260426T153000
DESCRIPTION:Familienprogramm, geeignet ab 8 Jahren\n\nDer aktuelle Sternenhimmel mit Sternbildern führt in die spannende Show ein. \n\nElon, der Hamster-Wissenschaftler, lebt auf einem Schrottplatz und versucht sich in die dort ansässige Rattengemeinschaft zu integrieren, aber niemand nimmt ihn ernst.\nEines Tages wird Elon durch Lärm in seinem Garten aufgeschreckt. Er findet einen Roboter, der vom Himmel gefallen ist. Wird Elon es schaffen, ihn zu reparieren und zum Raumschiff zu bringen, bevor es zum Mars aufbricht?\nDie Zuschauer sind dabei, wenn Elon den Mut fasst, ins Weltall zu fliegen. \n'3-2-1 Liftoff!' ist ein abenteuerlicher Animationsfilm über den Mut und den Verstand, den man haben muss, um ins Weltall und wieder zurück zu kommen. \n\nhttps://sternwarte-planetarium.ch/\n\nKontakt\nStiftung Sternwarte Planetarium SIRIUS \nSchwandenstrasse 131\n3657 Schwanden\n033 251 02 44\n\nVerfügbarkeit / Datum, Zeit\n26.4.2026 15:30 - \n31.5.2026 15:30 - \n28.6.2026 15:30 - \n\nPreis\nKinder           CHF   8.00\nErwachsene  CHF 16.00\n\n\nDas Angebot im Detail: https://www.guidle.com/angebote/1100758098/3-2-1_liftoff__die_weltraumabenteuer_von_elon_dem_hamster/schwanden_sigriswil\nQuelle: https://www.guidle.com
SUMMARY:3-2-1 LIFTOFF! / Die Weltraumabenteuer von Elon dem Hamster
PRIORITY:5
X-MICROSOFT-CDO-IMPORTANCE:1
CLASS:PUBLIC
BEGIN:VALARM
TRIGGER:-P1D
ACTION:DISPLAY
DESCRIPTION:Reminder
END:VALARM
END:VEVENT
END:VCALENDAR