BEGIN:VCALENDAR
PRODID:-//Microsoft Corporation//Outlook 11.0 MIMEDIR//EN
VERSION:2.0
METHOD:PUBLISH
BEGIN:VEVENT
DTSTART:20260509T200000
DTEND:20260509T230000
LOCATION:Schulhaus Vitznau, Turnhalle Rigiweg 1, 6354 Vitznau
TRANSP:OPAQUE
SEQUENCE:0
UID:68c38ea9-f20b-444d-8081-753e432c74eb-0
DTSTAMP:20260509T200000
DESCRIPTION:Es ist Crime Time in Vitznau – und Sie sind mittendrin.\n\nHeute Abend dreht sich alles um Spannung, Rätsel und überraschende\nWendungen.\nMit unserem diesjährigen Frühjahreskonzert entführen wir Sie in die\nspannende Welt der Krimis. Düster, geheimnisvoll und voller überraschender\nWendungen nimmt Sie die Musikgesellschaft Vitznau mit auf eine\nmusikalische Spurensuche. Mal erklingen schleichende Melodien wie leise\nSchritte im Dunkeln, mal sorgen kraftvolle Rhythmen für dramatische\nHöhepunkte und echte Gänsehautmomente.\nDoch keine Sorge – nicht alles, was wir ankündigen, wird zu einem Krimi. Im\nGegenteil: Mit Blick auf das Jahr 2028 starten wir unser Projekt\nNeuuniformierung. Ein Vorhaben, das Klarheit, Modernität und ein\neinheitliches Auftreten in den Mittelpunkt stellt. Wir hoffen sehr, dass dieses\nProjekt keine kriminalistische Detektivarbeit erfordert – sondern von Anfang\nan für Transparenz, Begeisterung und Zusammenhalt sorgt.\nFreuen Sie sich auf einen Abend voller Atmosphäre, Emotionen und\npackender Musik – wenn es heisst: Crime Time!\n\nIhre Musikgesellschaft Vitznau\n\nhttp://mg-vitznau.ch/\n\nKontakt\nMusikgesellschaft Vitznau\n\nVerfügbarkeit / Datum, Zeit\n9.5.2026 20:00 - 23:00\n\nTüröffnung 19.00 Uhr\n\nPreis\nEintritt frei, Türkollekte\n\n\nDas Angebot im Detail: https://www.guidle.com/angebote/1140804283/fruhjahrskonzert_der_musikgesellschaft_vitznau/vitznau\nQuelle: https://www.guidle.com
SUMMARY:Frühjahrskonzert der Musikgesellschaft Vitznau
PRIORITY:5
X-MICROSOFT-CDO-IMPORTANCE:1
CLASS:PUBLIC
BEGIN:VALARM
TRIGGER:-P1D
ACTION:DISPLAY
DESCRIPTION:Reminder
END:VALARM
END:VEVENT
END:VCALENDAR