BEGIN:VCALENDAR
PRODID:-//Microsoft Corporation//Outlook 11.0 MIMEDIR//EN
VERSION:2.0
METHOD:PUBLISH
BEGIN:VEVENT
DTSTART:20260529T093000
DTEND:20260529T143000
LOCATION:A.Vogel AG Grünaustrasse 4, 9325 Roggwil TG
TRANSP:OPAQUE
SEQUENCE:0
UID:5541029e-4b53-4405-bf76-d928d793cb84-0
DTSTAMP:20260529T093000
DESCRIPTION:Erleben Sie einen "coolen" Tag - ganzheitlich und speziell für die Frau.\n\nEs erwartet Sie eine Besichtigung der Heilpflanzenkulturen, ein Fachvortrag "Cool durch die Wechseljahre", ein vitalstoffreiches Mittagessen, Einblicke in die Frischpflanzenproduktion, Wissen über Heilpflannzen in der Selbstmedikation, Herstellung eines eigenen Kräutersalzes sowie eine Produktedegustation und Einkaufsmöglichkeit.\n\nhttps://www.avogel.ch/de/garten/roggwil/freundinnentage.php\n\nKontakt\nA.Vogel AG\nBesuchsmanagement\nGrünaustrasse 4\n9325 Roggwil\n071 454 62 42\n071 454 62 43\nTeam.roggwil@avogel.ch\n\nVerfügbarkeit / Datum, Zeit\n29.5.2026 09:30 - 14:30\n27.6.2026 09:30 - 14:30\n22.8.2026 09:30 - 14:30\n12.9.2026 09:30 - 14:30\n\nPreis\nCHF 59.00 / Person, inkl. Mittagessen, Getränke und Geschenk\n\nVorverkauf\nhttps://www.avogel.ch/de/garten/roggwil/kursanmeldung-roggwil.php#course4\n\n\nDas Angebot im Detail: https://www.guidle.com/angebote/1156852071/freundinnentag_cool_durch_die_wechseljahre/roggwil_tg\nQuelle: https://www.guidle.com
SUMMARY:Freundinnentag "Cool" durch die Wechseljahre
PRIORITY:5
X-MICROSOFT-CDO-IMPORTANCE:1
CLASS:PUBLIC
BEGIN:VALARM
TRIGGER:-P1D
ACTION:DISPLAY
DESCRIPTION:Reminder
END:VALARM
END:VEVENT
END:VCALENDAR