BEGIN:VCALENDAR
PRODID:-//Microsoft Corporation//Outlook 11.0 MIMEDIR//EN
VERSION:2.0
METHOD:PUBLISH
BEGIN:VEVENT
DTSTART:20260509T093000
DTEND:20260509T143000
LOCATION:A.Vogel AG Grünaustrasse 4, 9325 Roggwil TG
TRANSP:OPAQUE
SEQUENCE:0
UID:cf68778a-7e2a-48b0-8b1a-2c692f0edc3c-0
DTSTAMP:20260509T093000
DESCRIPTION:Entdecken Sie die frischen Heilpflanzen und wie sie Ihren Alltag unterstützen.\n\nEs erwartet Sie ein spannender Tag mit Einblicke in die A.Vogel Philosophie, Besichtigung der Heilpflanzenkulturen, Fachvortrag "Stress, Schlaf und Konzentration", vitalstoffreiches Mittagessen, Einblicke in die Frischpflanzenproduktion, Achtsamkeit und Entspannungsübungen sowie eine Produktedegustation und Einkaufsmöglichkeit.\n\n\n\nhttps://www.avogel.ch/de/garten/roggwil/anti-stress-tag.php\n\nKontakt\nA.Vogel AG\nBesuchsmanagement\nGrünaustrasse 4\n9325 Roggwil\n071 454 62 42\n071 454 62 43\nTeam.roggwil@avogel.ch\n\nVerfügbarkeit / Datum, Zeit\n9.5.2026 09:30 - 14:30\n13.6.2026 09:30 - 14:30\n19.8.2026 09:30 - 14:30\n\nPreis\nCHF 59.00 / Person, inkl. Mittagessen, Getränke und Geschenk\n\nVorverkauf\nhttps://www.avogel.ch/de/garten/roggwil/kursanmeldung-roggwil.php#course3\n\n\nDas Angebot im Detail: https://www.guidle.com/angebote/1156853013/balance-tag_stress_schlaf_und_konzentration/roggwil_tg\nQuelle: https://www.guidle.com
SUMMARY:Balance-Tag "Stress, Schlaf und Konzentration"
PRIORITY:5
X-MICROSOFT-CDO-IMPORTANCE:1
CLASS:PUBLIC
BEGIN:VALARM
TRIGGER:-P1D
ACTION:DISPLAY
DESCRIPTION:Reminder
END:VALARM
END:VEVENT
END:VCALENDAR