BEGIN:VCALENDAR
PRODID:-//Microsoft Corporation//Outlook 11.0 MIMEDIR//EN
VERSION:2.0
METHOD:PUBLISH
BEGIN:VEVENT
DTSTART:20260512T183000
DTEND:20260512T203000
LOCATION:Gemeinschaftsgarten Freiestrasse 26, 8570 Weinfelden
TRANSP:OPAQUE
SEQUENCE:0
UID:2a8a8005-bb5c-406a-bc97-a89676306376-0
DTSTAMP:20260512T183000
DESCRIPTION:Was hilft dem Boden, lebendig zu bleiben oder wieder zu werden? Mit einem theoretischen und einem praktischen Teil wird im Kurs aufgezeigt, welche vielfältigen Möglichkeiten es gibt, den Boden und seine Vitalität positiv zu beeinflussen. \nWir werden Hilfsmittel wie Mulch, Kompost, Bokashi und Pflanzenkohle unter die Lupe nehmen und die jeweiligen Möglichkeiten in praktischen Beispielen aufzeigen.\nReferentin: Ruth Erbslöh-Meier, Gärtnerin\n\nhttps://www.bioterra.ch/kurse/lebendiger-boden-1\n\nKontakt\nMarianne Zweifel\n071 622 44 07\n\nVerfügbarkeit / Datum, Zeit\n12.5.2026 18:30 - 20:30\n\nPreis\nFr.40.- / für Bioterramitglieder Fr. 30.-, incl. Material\n\n\nDas Angebot im Detail: https://www.guidle.com/angebote/1157081212/lebendiger_boden/weinfelden\nQuelle: https://www.guidle.com
SUMMARY:Lebendiger Boden
PRIORITY:5
X-MICROSOFT-CDO-IMPORTANCE:1
CLASS:PUBLIC
BEGIN:VALARM
TRIGGER:-P1D
ACTION:DISPLAY
DESCRIPTION:Reminder
END:VALARM
END:VEVENT
END:VCALENDAR