BEGIN:VCALENDAR
PRODID:-//Microsoft Corporation//Outlook 11.0 MIMEDIR//EN
VERSION:2.0
METHOD:PUBLISH
BEGIN:VEVENT
DTSTART:20260624T170000
DTEND:20260624T210000
LOCATION:Sportplatz Ochsenbühl, 7050 Arosa
TRANSP:OPAQUE
SEQUENCE:0
UID:a4f4cc13-48d2-4d1c-a4d5-d547e99f748c-0
DTSTAMP:20260624T170000
DESCRIPTION:Girls - let's ride together! Abwechslungsreiche Feierabendrunde mit Techniktipps und Tricks. \n\nGemeinsam gehen wir am Feierabend aufs Bike. Die Arosa Bikeschool gibt während des Rides Technikinputs, Tipps & Tricks weiter. Es ist jedes Girl, egal welches Fahrlevel, Bike oder Alter (alle Frauen ab 18 Jahre) willkommen. \n\nNach dem Ride lassen wir den Tag gemeinsam bei einem kleinen Apéro ausklingen.\n\nFahrrad: Bike, E-Bike\nLevel: ALLE\n\nDie Teilnahme kostet CHF 10 pro Person. \nEine Anmeldung bis am Montagabend ist über folgenden Link obligatorisch. \n\nhttps://www.graubuenden.ch/de/las-ciclistas/mittwoch-events\n\nKontakt\nArosa Bikeschool\n7050 Arosa\n076 446 70 28\n\nVerfügbarkeit / Datum, Zeit\n24.6.2026 17:00 - 21:00\n\nPreis\nCHF 10 pro Teilnehmerin\n\nVorverkauf\nhttps://www.bikekingdom.ch/de/Regionen/Arosa/Angebote/Ciclistas%20am%20Mittwoch\n\n\nDas Angebot im Detail: https://www.guidle.com/angebote/1173153156/ciclistas_am_mittwoch_meets_arosa_bikeschool__community_ride/arosa\nQuelle: https://www.guidle.com
SUMMARY:Ciclistas am Mittwoch, meets Arosa Bikeschool – Community Ride
PRIORITY:5
X-MICROSOFT-CDO-IMPORTANCE:1
CLASS:PUBLIC
BEGIN:VALARM
TRIGGER:-P1D
ACTION:DISPLAY
DESCRIPTION:Reminder
END:VALARM
END:VEVENT
END:VCALENDAR