BEGIN:VCALENDAR
PRODID:-//Microsoft Corporation//Outlook 11.0 MIMEDIR//EN
VERSION:2.0
METHOD:PUBLISH
BEGIN:VEVENT
DTSTART:20260424T200000
LOCATION:Salle Métropole Rue de Genève 12, 1003 Lausanne
TRANSP:OPAQUE
SEQUENCE:0
UID:e1749d43-dd63-4f38-820e-6fca68daf862-0
DTSTAMP:20260424T200000
DESCRIPTION:Mitwirkende: \nAnne Tuffigo\n\nKontakt\nTicketcorner\n0900 800 800 (CHF 1.19/min.)\n\nVerfügbarkeit / Datum, Zeit\n24.4.2026 20:00 - \n\nPreis\nEingeschränkte Sicht: 40,80 CHF\nKat. 1 Sitzplatz: 67,60 CHF\nKat. 2 Sitzplatz: 62,50 CHF\nKat. 3 Sitzplatz: 51,10 CHF\n\nVorverkauf\nhttps://www.ticketcorner.ch/artist/anne-tuffigo/?affiliate=GUI&utm_source=GUI&utm_medium=dp&utm_campaign=guidle\n\n\nDas Angebot im Detail: https://www.guidle.com/angebote/1180802830/anne_tuffigo_-_les_signes_de_lau-dela/lausanne\nQuelle: https://www.guidle.com
SUMMARY:Anne Tuffigo - Les signes de l'au-delà
PRIORITY:5
X-MICROSOFT-CDO-IMPORTANCE:1
CLASS:PUBLIC
BEGIN:VALARM
TRIGGER:-P1D
ACTION:DISPLAY
DESCRIPTION:Reminder
END:VALARM
END:VEVENT
END:VCALENDAR