BEGIN:VCALENDAR
PRODID:-//Microsoft Corporation//Outlook 11.0 MIMEDIR//EN
VERSION:2.0
METHOD:PUBLISH
BEGIN:VEVENT
DTSTART:20270325T204500
DTEND:20270326T224500
LOCATION:Centro Storico, 6850 Mendrisio
TRANSP:OPAQUE
RRULE:FREQ=WEEKLY;INTERVAL=1;UNTIL=20270326T224500;WKST=MO;BYDAY=TH,FR
UID:22d6ad1d-fbc3-4a97-a345-665095b3022e-0
DTSTAMP:20270325T204500
DESCRIPTION:Die Prozessionen der Karwoche, die seit der zweiten Hälfte des 17. Jahrhunderts belegt sind, ziehen am Abend des Gründonnerstags und des Karfreitags durch die Altstadt von Mendrisio. Bei dieser Gelegenheit wird die Strassenbeleuchtung ausgeschaltet und in den Gassen verbreitet sich das sanfte Licht der «Trasparenti»: Es handelt sich um grosse Leuchtbilder, welche auf durchleuchtende Leinwände gemalt, auf Holzrahmen montiert und von innen beleuchtet werden. Sie haben verschiedene Formen und Dimensionen und werden entlang der Prozessionsroute über die Gassen gespannt.\n\n<strong>Die Gründonnerstagsprozession</strong>\nWährend der Gründonnerstagsprozession, die im lokalen Dialekt fünziun di Giüdée genannt wird, gehen etwa 270 Personen durch die Straßen des Dorfes und lassen das Drama Jesu Christi wieder aufleben, indem sie die Passion inszenieren. Die Anwesenheit von etwa vierzig Pferden, Lakaien mit Fackeln, Trompetern und Trommlern trägt dazu bei, eine Atmosphäre von großem Charme zu schaffen.\n\n<strong>Karfreitags-Prozession</strong>\nDie Karfreitagsprozession, bekannt unter dem Namen Entierro (vom spanischen Wort "entierro", Begräbnis), ist streng und feierlich und eher von Spiritualität durchdrungen. Über siebenhundert Personen in Kostümen nehmen daran teil, aufgeteilt in Mitglieder zweier Bruderschaften und religiöser Vereinigungen.\n\nDas Publikum kann den Ort frei wählen, an dem es die Prozessionen verfolgen möchte, aber wir weisen darauf hin, dass es möglich ist, einen Platz auf den Tribünen auf der Piazza del Ponte zu reservieren.\n\n<strong>Am 12.12.2019 hat die UNESCO die Karwochenprozessionen in Mendrisio auf die Repräsentative Liste des immateriellen Kulturerbes der Menschheit aufgenommen.</strong>\n\n<strong>Kaufen Sie Ihren Sitzplatz auf der Tribüne</strong>\nCHF 15\n\nhttps://www.mendrisiottoturismo.ch\n\nKontakt\n+41 91 641 30 50\n\nVerfügbarkeit / Datum, Zeit\n25.3.2027 - 26.3.2027 20:45 - 22:45 Do, Fr\n\nPreis\n<strong>Kaufen Sie Ihren Sitzplatz auf der Tribüne</strong>\nCHF 15\n\nVorverkauf\nhttps://prenota.mendrisio.ch/processioni-storiche\n\n\nDas Angebot im Detail: https://www.guidle.com/angebote/1181492900/prozessionen_der_karwoche_in_mendrisio/mendrisio\nQuelle: https://www.guidle.com
SUMMARY:Prozessionen der Karwoche in Mendrisio
PRIORITY:5
X-MICROSOFT-CDO-IMPORTANCE:1
CLASS:PUBLIC
BEGIN:VALARM
TRIGGER:-P1D
ACTION:DISPLAY
DESCRIPTION:Reminder
END:VALARM
END:VEVENT
END:VCALENDAR