BEGIN:VCALENDAR
PRODID:-//Microsoft Corporation//Outlook 11.0 MIMEDIR//EN
VERSION:2.0
METHOD:PUBLISH
BEGIN:VEVENT
DTSTART:20260503T140000
LOCATION:Parkplatz Spitzwald Herrenweg 131, 4123 Allschwil
TRANSP:OPAQUE
SEQUENCE:0
UID:04f36601-1423-4489-8e26-67bfd2c1c3d4-0
DTSTAMP:20260503T140000
DESCRIPTION:Faszination – Greifvogel- und Eulen-Erlebnis\nErleben Sie die faszinierende Welt der Greifvögel und Eulen in einem einzigartigen, einstündigen Naturerlebnis. Bei "Faszination" kommen Sie diesen majestätischen Vögeln so nahe wie selten zuvor und erfahren Wissenswertes über ihre Lebensweise.\n\nProgrammablauf (ca. 60-90 Minuten):\nBegrüssung und Einführung in die Welt der Greifvögel\nVorstellung verschiedener Eulen- und Greifvogelarten\nDemonstration der Flugkünste\nInteraktives Erlebnis: Teilnehmer können selbst einen Vogel halten und fliegen lassen\nFrage-Antwort-Runde mit erfahrenen Falknern\n\nZielgruppe:\nNaturinteressierte und Vogelliebhaber\nGruppen und Einzelpersonen\nFamilien mit Kindern ab 6 Jahren\n\nIm Preis inbegriffen:\nCa. einstündige Führung und Demonstration\nMöglichkeit, selbst einen Vogel zu halten/fliegen zu lassen\nFachkundige Betreuung durch erfahrene Falkner\nTeilnahme-Zertifikat\n\nWichtige Informationen:\nTreffpunkt: Parkplatz Spitzwald, Herrenweg 131, 4123 Allschwil (ca. 10 Minuten Fussweg zum Veranstaltungsort) Bitte seien Sie pünktlich und informieren Sie uns auf Telefon 076 564 43 52, wenn Sie verspätet sind.\nDurchführung: Bei jeder Witterung\nKleidung: Bitte wetterangepasste Kleidung und festes Schuhwerk\nGruppengrösse: Wir begrenzen die Anzahl Personen pro Veranstaltung auf 20, damit alle Teilnehmenden Zeit mit den Vögeln verbringen können.\nSprache: Deutsch\n\nhttps://falknerei-basel.ch/\n\nKontakt\nFalknerei Basel GmbH, Binningen\nBen Gregor-Smith\nFalkner/Musiker \nAm Bollwerk 3\n4102 Binningen\n+41 765644352 \n\nVerfügbarkeit / Datum, Zeit\n3.5.2026 14:00 - \n10.5.2026 14:00 - \n17.5.2026 14:00 - \n24.5.2026 14:00 - \n31.5.2026 14:00 - \n\nPreis\nStehplatz: CHF 60.00\n\nVorverkauf\nhttps://www.ticketcorner.ch/artist/faszination-greifvogel-eulen-erlebnis/?affiliate=GUI&utm_source=GUI&utm_medium=dp&utm_campaign=guidle\n\n\nDas Angebot im Detail: https://www.guidle.com/angebote/1183657315/faszination_greifvogel__eulen_erlebnis/allschwil\nQuelle: https://www.guidle.com
SUMMARY:Faszination Greifvogel & Eulen Erlebnis
PRIORITY:5
X-MICROSOFT-CDO-IMPORTANCE:1
CLASS:PUBLIC
BEGIN:VALARM
TRIGGER:-P1D
ACTION:DISPLAY
DESCRIPTION:Reminder
END:VALARM
END:VEVENT
END:VCALENDAR