BEGIN:VCALENDAR
PRODID:-//Microsoft Corporation//Outlook 11.0 MIMEDIR//EN
VERSION:2.0
METHOD:PUBLISH
BEGIN:VEVENT
DTSTART:20260419
LOCATION:Hôtel de Gruyères Ruelle des Chevaliers 1, 1663 Gruyères
TRANSP:OPAQUE
SEQUENCE:0
UID:240ed3d3-caa3-4eea-abcd-eb9c4f0d97c9-0
DTSTAMP:20260419T120000
DESCRIPTION:Der Kurs findet von 10:30 bis 11:30 Uhr statt. Der Brunch ist anschliessend von 11:45 bis 13:30 Uhr geöffnet.\n- Alle Yoga-Niveaus sind willkommen - Bestätigter Kurs ab 5 TeilnehmerInnen - Kurs auf der Terrasse oder im Seminarraum (je nach Wetter)\n\nhttps://fribourg.ch/de/la-gruyere/veranstaltungen/yoga-038-brunch-avec-vue/\n\nKontakt\nHôtel de Gruyères\n1663 Gruyères\n+41 (0)26 921 80 30\n\nVerfügbarkeit / Datum, Zeit\n19.4.2026 \n25.4.2026 \n26.4.2026 \n16.5.2026 \n17.5.2026 \n23.5.2026 \n6.6.2026 \n7.6.2026 \n13.6.2026 \n14.6.2026 \n\n\nDas Angebot im Detail: https://www.guidle.com/angebote/1189518196/yoga__brunch_mit_aussicht/gruyeres\nQuelle: www.guidle.com
SUMMARY:Yoga & Brunch mit Aussicht
PRIORITY:5
X-MICROSOFT-CDO-IMPORTANCE:1
CLASS:PUBLIC
BEGIN:VALARM
TRIGGER:-P1D
ACTION:DISPLAY
DESCRIPTION:Reminder
END:VALARM
END:VEVENT
END:VCALENDAR