BEGIN:VCALENDAR
PRODID:-//Microsoft Corporation//Outlook 11.0 MIMEDIR//EN
VERSION:2.0
METHOD:PUBLISH
BEGIN:VEVENT
DTSTART:20270125T190000
DTEND:20271002T220000
LOCATION:BBS/BVS Business School Vulkanstrasse 106, 8048 Zürich
TRANSP:OPAQUE
RRULE:FREQ=WEEKLY;INTERVAL=1;UNTIL=20271002T220000;WKST=MO;BYDAY=MO,TU,WE,TH,FR,SA,SU
UID:9c8c57c0-6862-4057-ad0f-d38a504d7b31-0
DTSTAMP:20270125T190000
DESCRIPTION:Durch den Lehrgang Technische Kauffrau eidg. FA / Technischer Kaufmann eidg. FA wird die Grundlage geschaffen, Führungsaufgaben zu übernehmen oder z. B. von der Produktion in andere Unternehmensbereiche wie Einkauf oder Verkauf zu wechseln. Diese Entwicklungsmöglichkeit, die gleichzeitig einem hohen Bedürfnis der Wirtschaft entspricht und eine grosse Chance für erstberuflich technisch-handwerklich Ausgebildete darstellt, wird heute in vielen Unternehmungen gefördert.\n\nArbeitgeber wissen:\n\n„Die Technischen Kaufleute sind ausgewiesene Fach- und Führungspersonen in der Koordination und Leitung von fachlichen und/oder interdisziplinären Teams und Projekten. Sie bearbeiten unternehmerische Fragestellungen hauptsächlich im technisch-betriebswirtschaftlichen Umfeld. Generalistisch ausgebildet, bringen sie ein fundiertes Verständnis für das Unternehmen und sein Umfeld in seiner Ganzheit auf."\n\nQuelle: Anavant, www.anavant.ch, 2021\n\nIn kleineren und mittleren Unternehmen (KMU) werden die Vorteile dieser Ausbildung geschätzt und genutzt. Ziel der Prüfung ist es, Berufsleute zu befähigen, mit den entsprechenden Prüfungsfächern eine zum Generalisten notwendige Fachkompetenz in den Bereichen Betriebswirtschaft, Rechnungswesen, Marketing, Einkauf, Verkauf und Organisation, Logistik und Informatik aufzubauen.\n\nWeiterführende Ausbildungen:\n\n-Aufbaukurs zum Bachelor of Artsin Business Administration (2 Semester)\n-Aufbaukurs zum Master of Science (MSc) in Business Management (4 Semester)\n\nDieser Bildungsgang wird in unserem Ausbildungskonzept von der Robert Gordon University als 2. Studienjahr im Lehrgang «Bachelor of Arts in Business Administration der RGU» mit 60 ECTS-Punkten angerechnet.\n\nInhalt\nModul-Nr. Stufe Handel (HD) und Kader HWD (HW), Handlungsfelder (HF)\n\nSupply Chain Management TK01\n\nHF 5, HF 10 und HF 11\n\nHF 5: Supply Chain Management - Die TK übernehmen im Bereich des Supply Chain Managements eine übergeordnete Funktion. Sie erstellen Beschaffungs- und Produktionsstrategien und analysieren den Beschaffungsmarkt. Sie wirken bei der Lieferantenauswahl mit, erstellen Kapazitätsplanungen und bereiten die Distributionslogistik vor. Daneben verfügen die TK über Kompetenzen im operativen Bereich, nehmen Wareneingangskontrollen vor oder kommissionieren und verpacken Waren.\n\nHF 10: Infrastruktur - Die TK zeigen Kompetenzen im Beurteilen und Optimieren\n\nder Infrastruktur sowie der IT-Infrastruktur im Besonderen.\n\nHF 11: Qualität, Normen, Arbeitssicherheit und Ökologie - Im Handlungsfeld 11 finden sich Kompetenzen zur Umsetzung und Einhaltung von Qualitäts- und Normvorgaben wieder sowie zur Umsetzung der Arbeitssicherheit und ökologischer Normen.\n\nMarketing und Verkauf HD 05, HW15, HW17 TK02\n\nHF6 und HF 7\n\nHF 6: Marketing und Verkauf - Das Handlungsfeld 6 umfasst Kompetenzen des Verkaufs, wie die Neukundenakquise, die Erhebung von Kundenbedürfnissen, Offerten, Abschlüsse, die Abwicklung von Aufträgen und die Kundenpflege. Daneben umfasst es Kompetenzen des Marketings, wie Marktanalysen und -segmentierungen, Marketing-Mix und Verkaufsförderung, dem Mitarbeiten bei der Preisgestaltung und dem Nutzen eines CRM.\n\nHF 7: Services (Kundendienst) - Die TK zeigen Kompetenzen im Beantworten von Kundenanfragen, Kundenrückmeldungen und Reklamationen\n\nPersonalmanagement HW16 TK03\n\nHF 3 und HF 8\n\nHF 3: Mitarbeiterführung und Kommunikation - Mit dem Handlungsfeld 3 sind Kompetenzen rund um die Führung von Mitarbeitenden im Alltag und in Ausnahmesituationen abgedeckt. Daneben führen die TK Sitzungen sowie Kunden- und innerbetriebliche Schulungen durch und informieren und kommunizieren intern, extern und in schwierigen Situationen. Ausserdem zeigen die TK umfassende Kompetenzen im Selbstmanagement.\n\nHF 8: Personal(-arbeit) - Das Handlungsfeld 8 enthält die Kompetenzen der Personalarbeit, also das Rekrutieren und Einführen neuer Mitarbeitenden, die Mitarbeiterbeurteilung, -honorierung, -förderung und -entwicklung sowie die Personalfreisetzung. Dabei berücksichtigen die TK arbeitsrechtliche und sozialversicherungsrechtliche Aspekte.\n\nFinanzwirtschaft HD04, HW11 TK04\n\nHF 4 und HF 9\n\nHF 4: Finanzielle Führung - Im Rahmen der finanziellen Führung planen die TK das Budget für den eigenen Bereich, übernehmen das Controlling, arbeiten bei Investitions- und Finanzierungsvorhaben\n\nmit und unterstützen die Finanzplanung.\n\nHF 9: Finanzbuchhaltung und Rechnungswesen - Im Handlungsfeld 9 sind die Kompetenzen rund um die Finanz- und die Betriebsbuchhaltung zusammengefasst. Dazu zählt das Prüfen der Kreditoren, die Debitorenbuchhaltung, das Erfassen des laufenden Geschäftsverkehrs sowie das Erstellen einfacher Buchhaltung mit Jahresabschluss im Bereich Finanz- und Rechnungswesen sowie das Ermitteln von Kosten, das Erstellen von Kalkulationsberechnungen und das Berechnen des Mindestumsatzes im Bereich der Betriebsbuchhaltung.\n\nUnternehmensführung und Umwelt HD05, HW13, HW12, HW14 TK05\n\nHF 2\n\nHF 2: Unternehmensführung - Das Handlungsfeld 2 umfasst Kompetenzen rund um die strategische Führung eines Unternehmensbereichs, das Begleiten von Veränderungsprozessen sowie das Projekt- und Wissensmanagement. Daneben zeigen die TK Kompetenzen in der Erstellung eines Businessplans, der Gestaltung der Aufbauorganisation und dem Prozessmanagement. Sie leiten ökologische Massnahmen ab, geben Empfehlungen hinsichtlich des Technologiemanagements und wenden Grundlagen der Wirtschafts- und Unternehmensethik an.\n\nRecht und Volkswirtschaft HD05, HW13 TK06\n\nHF 1\n\nHF 1: Recht und Volkswirtschaft - Das Handlungsfeld 1 umfasst das Ableiten mikro und makroökonomischer Handlungsempfehlungen für das Unternehmen (resp. den eigenen Bereich) sowie die Nutzbarmachung öffentlichen und privaten Rechts für den Geschäftsalltag.\n\nIntegrierte Fallstudie TK07\n\nHandlungsfeld-übergreifend\n\nIn der integrierten Fallstudie werden zentrale Kompetenzen aus mehreren Handlungsfeldern in einem übergreifenden Praxisfall verknüpft. Zudem wird die Sprachkompetenz (deutsch), indem Schreiben verfasst werden und die Sprachfertigkeit deutsch geprüft wird, angewandt.\n\nProblemlösungs- und Entscheidungsmethodik TK08\n\nHandlungsfeldübergreifend\n\nIn einer Postkorbaufgabe sind unter Berücksichtigung der Zeit Informationen zu analysieren, die zu erledigenden Arbeiten zu organisieren und strukturieren, Prioritäten zu setzen und Informationen weiterzuleiten oder Arbeiten zu delegieren. Geprüft werden Kompetenzen zur Arbeitstechnik und -organisation aus allen Handlungsfeldern.\n\nVoraussetzung\nDie prüfungsvorbereitende Ausbildungszeit wird in Teilabschlüssen absolviert, damit während dieser Zeit für Lernende und im Hinblick auf berufliche Veränderungen die kaufmännische bzw. betriebswirtschaftliche Zusatzleistung mit einem Bürofach- u. Handelsdiplom VSH und einem Höheren Wirtschaftsdiplom VSK belegt werden kann.\n\nDas Ziel, auf die eidg. Prüfungen der Techn. Kaufleute vorzubereiten, steht im Vordergrund. Die Zulassung zu dieser Prüfung ist im Prüfungsreglement geregelt und spätestens vor Prüfungsbeginn (i. d. Regel Ende Juli des geplanten Prüfungsjahres) zu erfüllen.\n\nZulassung zur eidg. Prüfung (Auszug aus dem Reglement Anavant)\n\nGemäss Art. 3.3 wird zu den eidg. Prüfungen zugelassen, wer\n\na) ein Fähigkeitszeugnis (EFZ) oder einen gleichwertigen Ausweis besitzt und über mindestens 3 Jahre Berufspraxis im technisch-handwerklichen Bereich nach Erwerb des Abschlusses nachweist\n\noder\n\nb) ein eidgenössisches Berufsattest (EBA)\n\noder einen gleichwertigen Ausweis besitzt und über mindestens 5 Jahre Berufspraxis im technisch-handwerklichen Bereich nach Erwerb des Abschlusses nachweist\n\nc) Vorbehalten bleibt die fristgerechte Überweisung der Prüfungsgebühr nach Ziff. 3.4.1.\n\nZielgruppe\nDie Weiterbildung richtet sich an technisch-handwerkliche Berufsleute, die ihre Zukunft in der anspruchsvollen kaufmännisch-betriebswirtschaftlichen Tätigkeit sehen.\n\nDie prüfungsvorbere\n\nhttps://www.benedict.ch/kaderschule/zuerich/kurs/technischer-kaufmanntechnische-kauffrau-mit-eidg-fachausweis-2-jahr-ba/?utm_source=Alice&utm_medium=K\n\nKontakt\nBVS Betriebswirtschaftsschule AG\nVulkanstrasse 106\n8048 Zürich\n044 241 08 89\n044 291 07 90\n\nVerfügbarkeit / Datum, Zeit\n25.1.2027 - 2.10.2027 19:00 - 22:00\n\nAnmeldeschluss: 25.01.2027\n\nPreis\nTeilnahmegebühr: CHF 14320\n\n\nDas Angebot im Detail: https://www.guidle.com/angebote/1191781615/technischer_kaufmann__technische_kauffrau_mit_eidg_fachausweis_kursmodell_2_2_jahr_ba/zurich\nQuelle: https://www.guidle.com
SUMMARY:Technischer Kaufmann / Technische Kauffrau mit eidg. Fachausweis Kursmodell 2 (2. Jahr BA)
PRIORITY:5
X-MICROSOFT-CDO-IMPORTANCE:1
CLASS:PUBLIC
BEGIN:VALARM
TRIGGER:-P1D
ACTION:DISPLAY
DESCRIPTION:Reminder
END:VALARM
END:VEVENT
END:VCALENDAR