BEGIN:VCALENDAR
PRODID:-//Microsoft Corporation//Outlook 11.0 MIMEDIR//EN
VERSION:2.0
METHOD:PUBLISH
BEGIN:VEVENT
DTSTART:20260610
LOCATION:Digicomp Academy AG Limmatstrasse 50, 8005 Zürich
TRANSP:OPAQUE
SEQUENCE:0
UID:ddff1f3d-84d2-49e9-b4b3-2ffeb856b1b5-0
DTSTAMP:20260610T120000
DESCRIPTION:Revolutioniere deine Arbeit als Scrum Master mit künstlicher Intelligenz! Lerne, wie du AI für effiziente Retrospektiven, präzise Team-Analysen (Heatmaps) und das Agile Fluency Model nutzt. Dein Praxis-Upgrade für mehr Produktivität & bessere Teamdynamik.\n\nVoraussetzung\nScrum ist dir vertraut und du hast bereits erste Erfahrungen als Scrum Masterin oder Scrum Master gesammelt.\n\nZielgruppe\nDieser Kurs richtet sich an alle, die ihre agile Rolle modernisieren wollen:\n-Scrum Master, Agile Coaches & RTEs: Du möchtest AI als leistungsstarkes Werkzeug nutzen, um Routinen zu automatisieren und dich stärker auf die Arbeit mit Menschen zu fokussieren.-Teamleiter & Projektleiter: Du willst AI einsetzen, um die Effizienz und Transparenz in deinen Projekten zu steigern und Entscheidungen datengestützt zu treffen.-Product Owner & Entwickler: Du interessierst dich für Scrum-Master-Aufgaben und möchtest verstehen, wie AI die Zusammenarbeit (Collaboration) im Team verbessert und den Wertfluss maximiert.\n\nQuelle: www.weiterbildung.swiss\n\nhttps://www.digicomp.ch/d/SMAI\n\nKontakt\nDigicomp Academy AG\nLimmatstrasse 50\n8005 Zürich\n+41 44 447 21 21\n+41 44 447 21 31\n\nVerfügbarkeit / Datum, Zeit\n10.6.2026 \n\nPreis\nTeilnahmegebühr: CHF 1000\n\n\nDas Angebot im Detail: https://www.guidle.com/angebote/1191817056/scrum_master_agile-prozesse_mit_ai_optimieren/zurich\nQuelle: https://www.guidle.com
SUMMARY:Scrum Master: Agile-Prozesse mit AI optimieren
PRIORITY:5
X-MICROSOFT-CDO-IMPORTANCE:1
CLASS:PUBLIC
BEGIN:VALARM
TRIGGER:-P1D
ACTION:DISPLAY
DESCRIPTION:Reminder
END:VALARM
END:VEVENT
END:VCALENDAR