BEGIN:VCALENDAR
PRODID:-//Microsoft Corporation//Outlook 11.0 MIMEDIR//EN
VERSION:2.0
METHOD:PUBLISH
BEGIN:VEVENT
DTSTART:20261209
LOCATION:Digicomp Academy AG Limmatstrasse 50, 8005 Zürich
TRANSP:OPAQUE
RRULE:FREQ=WEEKLY;INTERVAL=1;UNTIL=20261210;WKST=MO;BYDAY=WE,TH
UID:85f58904-0510-4b0d-8f37-d7a4dfc45bb7-0
DTSTAMP:20261209T120000
DESCRIPTION:In diesem Excel-Kurs vertiefst du deine Fähigkeiten in Kalkulationen und Visualisierungen. Du lernst, komplexe Funktionen wie WENN, SVERWEIS und XVERWEIS anzuwenden, Daten zu visualisieren und mit bedingten Formatierungen und Diagrammen zu arbeiten.\n\nVoraussetzung\nAchtung: Dieser Kurs eignet sich nicht für Anfänger/innen. Vorausgesetzt werden Grundkenntnisse von Excel analog zum folgenden Kurs:\n\nZielgruppe\nDieser Kurs richtet sich an Anwender/innen, die bereits Erfahrung mit Excel haben und ihre Kenntnisse praxisnah erweitern möchten.\n\nQuelle: www.weiterbildung.swiss\n\nhttps://www.digicomp.ch/d/me2\n\nKontakt\nDigicomp Academy AG\nLimmatstrasse 50\n8005 Zürich\n+41 44 447 21 21\n+41 44 447 21 31\n\nVerfügbarkeit / Datum, Zeit\n9.12.2026 - 10.12.2026  Mi, Do\n\nPreis\nTeilnahmegebühr: CHF 1140\n\n\nDas Angebot im Detail: https://www.guidle.com/angebote/1191821887/fortgeschrittene_techniken_in_microsoft_excel/zurich\nQuelle: https://www.guidle.com
SUMMARY:Fortgeschrittene Techniken in Microsoft Excel
PRIORITY:5
X-MICROSOFT-CDO-IMPORTANCE:1
CLASS:PUBLIC
BEGIN:VALARM
TRIGGER:-P1D
ACTION:DISPLAY
DESCRIPTION:Reminder
END:VALARM
END:VEVENT
END:VCALENDAR