BEGIN:VCALENDAR
PRODID:-//Microsoft Corporation//Outlook 11.0 MIMEDIR//EN
VERSION:2.0
METHOD:PUBLISH
BEGIN:VEVENT
DTSTART:20260509T200000
DTEND:20260509T223000
LOCATION:Trottentheater Wiesengrundstrasse 17, 8212 Neuhausen
TRANSP:OPAQUE
SEQUENCE:0
UID:6f202fc3-567a-4918-8462-faa9f36aeabb-0
DTSTAMP:20260509T200000
DESCRIPTION:Auf seiner Suche nimmt Jozo das Publikum mit auf eine Reise durch seine Kindheit als Secondo mit Kommunikationsproblemen, der sich durch unzählige Jobs kämpft, sich ständig neu erfindet und so oft in den Tag träumt, dass es ihm schwerfällt, Traum von Realität zu unterscheiden.\n\nhttps://www.trottentheater.ch/page/spielplan_tickets/index.php\n\nKontakt\nTrottentheater Neuhausen\nGemeindeverwaltung Neuhausen\nZentralstrasse 38\n8212 Neuhausen\n+41 (0)52 674 22 24\n\nVerfügbarkeit / Datum, Zeit\n9.5.2026 20:00 - 22:30\n\nPreis\nCHF 30.00\n\nVorverkauf\nhttps://www.trottentheater.ch/page/spielplan_tickets/index.php\n\n\nDas Angebot im Detail: https://www.guidle.com/angebote/1192433426/jozo_brica_alli_kenned_de_jozo__de_jozo_kennt_nut/neuhausen\nQuelle: https://www.guidle.com
SUMMARY:Jozo Brica «Alli kenned de Jozo & de Jozo kennt nüt»
PRIORITY:5
X-MICROSOFT-CDO-IMPORTANCE:1
CLASS:PUBLIC
BEGIN:VALARM
TRIGGER:-P1D
ACTION:DISPLAY
DESCRIPTION:Reminder
END:VALARM
END:VEVENT
END:VCALENDAR