BEGIN:VCALENDAR
PRODID:-//Microsoft Corporation//Outlook 11.0 MIMEDIR//EN
VERSION:2.0
METHOD:PUBLISH
BEGIN:VEVENT
DTSTART:20260425T093000
DTEND:20260425T170000
LOCATION:Sawah – Jikiden Reiki, Zürich, Erdgeschoss Thurgauerstrasse 113, 8152 Glattpark (Opfikon)
TRANSP:OPAQUE
SEQUENCE:0
UID:f5ab9152-4e89-4c9b-a6b9-c7f9696a4158-0
DTSTAMP:20260425T093000
DESCRIPTION:Bereits nach diesem 2-Tageskurs bist du fähig, körperliche Beschwerden wie Sportverletzungen, Migräne, chronische Schmerzen uvm. effektiv und nachhaltig zu behandeln.\n\nDer Kurs eignet sich für die Behandlung von Familienmitglieder und Freunde sowie zur Selbstbehandlung. Der Kurs eignet sich auch als Grundausbildung für Berufseinsteiger oder zur persönliche Weiterbildung.\n\nMeine Reiki Linie: Mikao Usui, Dr. Chujiro Hayashi, Chiyoko Yamaguchi, Tadao Yamaguchi, Karin Birchler\n\nhttps://sawah.ch/\n\nKontakt\n\nVerfügbarkeit / Datum, Zeit\n25.4.2026 09:30 - 17:00\n\nPreis\nCHF 380.00\n\n\nDas Angebot im Detail: https://www.guidle.com/angebote/1194903985/jikiden_reiki_shoden-kurs_apr_25-26_2026/glattpark_opfikon\nQuelle: https://www.guidle.com
SUMMARY:Jikiden Reiki® Shoden-Kurs, Apr 25.-26. 2026
PRIORITY:5
X-MICROSOFT-CDO-IMPORTANCE:1
CLASS:PUBLIC
BEGIN:VALARM
TRIGGER:-P1D
ACTION:DISPLAY
DESCRIPTION:Reminder
END:VALARM
END:VEVENT
END:VCALENDAR