BEGIN:VCALENDAR
PRODID:-//Microsoft Corporation//Outlook 11.0 MIMEDIR//EN
VERSION:2.0
METHOD:PUBLISH
BEGIN:VEVENT
DTSTART:20260509T093000
DTEND:20260509T160000
LOCATION:Sawah – Jikiden Reiki, Zürich, Erdgeschoss Thurgauerstrasse 113, 8152 Glattpark (Opfikon)
TRANSP:OPAQUE
SEQUENCE:0
UID:340f57bd-07ce-4866-865e-5d1a9eb4814c-0
DTSTAMP:20260509T093000
DESCRIPTION:Bereits nach diesem 2-Tageskurs bist du fähig mentale Themen und ungewollte Gewohnheiten wie Ängste, Verhaltensmuster uvm. effektiv und nachhaltig zu behandeln. Zusätzlich lernst du wie man Personen aus der Entfernung gezielt mit Reiki behandeln und unterstützen kannst.\n\nDer Kurs eignet sich für die Behandlung von Familienmitglieder und Freunde sowie zur Selbstbehandlung. Der Kurs eignet sich auch als Grundausbildung für Berufseinsteiger, oder zur persönlichen Weiterbildung.\n\nMeine Reiki Linie: Mikao Usui, Chujiro Hayashi, Chiyoko Yamaguchi, Tadao Yamaguchi, Karin Birchler\n\nhttps://sawah.ch/\n\nKontakt\n\nVerfügbarkeit / Datum, Zeit\n9.5.2026 09:30 - 16:00\n\nPreis\n480.00\n\n\nDas Angebot im Detail: https://www.guidle.com/angebote/1194904039/jikiden_reiki_okuden-kurs_mai_09-10_2026/glattpark_opfikon\nQuelle: https://www.guidle.com
SUMMARY:Jikiden Reiki® Okuden-Kurs, Mai 09.-10. 2026
PRIORITY:5
X-MICROSOFT-CDO-IMPORTANCE:1
CLASS:PUBLIC
BEGIN:VALARM
TRIGGER:-P1D
ACTION:DISPLAY
DESCRIPTION:Reminder
END:VALARM
END:VEVENT
END:VCALENDAR