BEGIN:VCALENDAR
PRODID:-//Microsoft Corporation//Outlook 11.0 MIMEDIR//EN
VERSION:2.0
METHOD:PUBLISH
BEGIN:VEVENT
DTSTART:20260423
LOCATION:upswing GmbH | kybun Joya Shop Rüti (vormals Gesundheitszentrum Rüti), 1. UG Ferrachstrasse 4, 8630 Rüti ZH
TRANSP:OPAQUE
RRULE:FREQ=WEEKLY;INTERVAL=1;WKST=MO;BYDAY=MO,TU,WE,TH,FR,SA
UID:095d561d-566c-486b-bde2-5bc3020b92c7-0
DTSTAMP:20260423T120000
DESCRIPTION:Lara Seraina ist im Zürcher Oberland aufgewachsen und immer noch wohnhaft. Sie war mehrere Jahre hobbymässig künstlerisch Tätig und hat 2023 den Schritt gewagt, sich nebenberuflich noch mehr auf ihre Kunst zu fokussieren. In Rüti hat sie nun die Möglichkeit, einige ihrer Werke der Öffentlichkeit zugänglich zu machen. So zeigt sie in ihrer dritten Einzelausstellung "Florals" verschiedene von der Natur inspirierte Bilder, von abstrakt bis realistisch.\n\nhttps://www.laraserainaart.com\n\nKontakt\nLara Seraina Art\n+41767487800\n\nVerfügbarkeit / Datum, Zeit\n30.5.2025 -   Mo, Di, Mi, Do, Fr, Sa\n\nEs gelten die Geschäfts Öffnungszeiten\n\n\nDas Angebot im Detail: https://www.guidle.com/angebote/1196097697/kunstausstellung_florals_von_lara_seraina_art/ruti_zh\nQuelle: www.guidle.com
SUMMARY:KUNSTAUSSTELLUNG "FLORALS" VON LARA SERAINA ART
PRIORITY:5
X-MICROSOFT-CDO-IMPORTANCE:1
CLASS:PUBLIC
BEGIN:VALARM
TRIGGER:-P1D
ACTION:DISPLAY
DESCRIPTION:Reminder
END:VALARM
END:VEVENT
END:VCALENDAR