BEGIN:VCALENDAR
PRODID:-//Microsoft Corporation//Outlook 11.0 MIMEDIR//EN
VERSION:2.0
METHOD:PUBLISH
BEGIN:VEVENT
DTSTART:20260516
LOCATION:Presso diverse località del cantone Via Ghitello 3, 6834 Morbio Inferiore
TRANSP:OPAQUE
RRULE:FREQ=WEEKLY;INTERVAL=1;UNTIL=20260517;WKST=MO;BYDAY=SA,SU
UID:d6fc35a7-453c-4515-87ab-0b1ca7825e4f-0
DTSTAMP:20260516T120000
DESCRIPTION:Das Tessin widmet zwei Wochenenden seinem Wein.\n\nSeit mehr als 20 Jahren öffnen an die 80 Weinkeller Ihre Türen um den Gästen einen Blick hinter die Kulissen einer Branche mit starker Tradition zu gewähren. \n\nAn der Veranstaltung "Cantine Aperte" stehen die Türen der Kellereien offen, Tausende von Weinliebhabern nehmen daran teil. Sie findet <strong>vom 16. bis 17. Mai 2026 im Sottoceneri</strong> und <strong>vom 23. bis 24. Mai 2026 im Sopraceneri</strong> statt.\n\nEine hervorragende Gelegenheit, um Kellereien zu entdecken, die oft wahre architektonische Juwele sind. Hier verschmelzen Tradition und modernste Technologie mit der Expertise und Leidenschaft der Weinbauer. Das Tessin zeigt mit Stolz seinen Platz als Weinregion der Spitzenklasse.\n\nNehmen Sie mit öffentlichen Verkehrsmitteln an der Veranstaltung teil oder nutzen Sie die von einigen Weingütern direkt organisierten Shuttle-Services.\n\nhttps://www.ticinowine.ch\n\nKontakt\n+41 91 690 13 53\n\nVerfügbarkeit / Datum, Zeit\n16.5.2026 - 17.5.2026  Sa, So\n23.5.2026 - 24.5.2026  Sa, So\n\n\nDas Angebot im Detail: https://www.guidle.com/angebote/1196630149/tage_der_offenen_kellerei/morbio_inferiore\nQuelle: https://www.guidle.com
SUMMARY:Tage der offenen Kellerei
PRIORITY:5
X-MICROSOFT-CDO-IMPORTANCE:1
CLASS:PUBLIC
BEGIN:VALARM
TRIGGER:-P1D
ACTION:DISPLAY
DESCRIPTION:Reminder
END:VALARM
END:VEVENT
END:VCALENDAR