BEGIN:VCALENDAR
PRODID:-//Microsoft Corporation//Outlook 11.0 MIMEDIR//EN
VERSION:2.0
METHOD:PUBLISH
BEGIN:VEVENT
DTSTART:20260502T100000
DTEND:20260502T160000
LOCATION:Evang.-ref. Landeskirche Graubünden Loëstrasse 60, 7000 Chur
TRANSP:OPAQUE
SEQUENCE:0
UID:53eb92ff-9c82-4a1c-80f1-27f13d627ada-0
DTSTAMP:20260502T100000
DESCRIPTION:Irgendwie vertraut ... und doch ganz anders!\n\nWas? ... macht das Judentum aus, unterscheidet es vom Christentum und vom Islam?\nWo? ... liegen die Gemeinsamkeiten der Religionen?\nWie? ... leben Jüdinnen und Juden bei uns in der Schweiz?\nWelche? ... Geschichte hat der Staat Israel?\n\nMit Exkursionen n.V.: Synagogenbesuch; persönlicher Austausch mit Jüdinnen und Juden in der Schweiz.\n\nDer Theologiekurs richtet sich an alle Personen, die einen Einblick in theologisches Denken gewinnen möchten, an Freiwillige und Ehrenamtliche in Kirchgemeinden. Sie müssen aber nicht Mitglied einer Kirche sein – der Kurs ist für alle offen.\n\nTeilnehmende können nach dem Besuch des Moduls grundlegende Problemstellungen beschreiben und und Argumente abwägen, eigene Standpunkte nachvollziehbar begründen und bei entsprechender didaktischer Qualifikation und Zulassung (Pädagogische Hochschule, Lehrerpatent) schulischen Unterricht zum Thema anbieten. Für aktive Lehrpersonen ist das Modul als Weiterbildung und Vertiefung geeignet.\n\nDer evangelische Theologiekurs Graubünden: 18 spannende Module für Ihre persönliche Weiterbildung, wissenschaftlich fundiert und allgemeinverständlich. Persönliche Begegnung, Videokonferenzen und E-Learning kombiniert, daher familienfreundlich und mit grossen Entfernungen vereinbar.\n\nhttps://www.theologiekurs-graubuenden.ch\n\nKontakt\nEvangelischer Theologiekurs Graubünden\nEvangelische Landeskirche Graubünden\nProf. Dr. Jörg Lanckau (Studienleiter)\nLoëstrasse 60\n7000 Chur\n+41793394637\n\nVerfügbarkeit / Datum, Zeit\n2.5.2026 10:00 - 16:00\n8.5.2026 18:00 - 20:00\n15.5.2026 18:00 - 20:00\n22.5.2026 18:00 - 20:00\n30.5.2026 10:00 - 16:00\n13.6.2026 10:00 - 16:00\n\nDer Kurstage 02.05. findet in Präsenz in Chur statt. Eine hybride Teilnahme via Zoom ist nach Absprache möglich. Die Kursabende am Freitag finden online via Zoom statt. Die Samstage 30.05. und 13.06. sind nur provisorisch reserviert, die entsprechenden Exkursionen finden nach Vereinbarung statt.\n\nPreis\nCHF 240.00\n\n\nDas Angebot im Detail: https://www.guidle.com/angebote/1198999736/einen_weg_zum_verstandnis_des_judentums_finden/chur\nQuelle: https://www.guidle.com
SUMMARY:Einen Weg zum Verständnis des Judentums finden.
PRIORITY:5
X-MICROSOFT-CDO-IMPORTANCE:1
CLASS:PUBLIC
BEGIN:VALARM
TRIGGER:-P1D
ACTION:DISPLAY
DESCRIPTION:Reminder
END:VALARM
END:VEVENT
END:VCALENDAR