BEGIN:VCALENDAR
PRODID:-//Microsoft Corporation//Outlook 11.0 MIMEDIR//EN
VERSION:2.0
METHOD:PUBLISH
BEGIN:VEVENT
DTSTART:20260423T193000
LOCATION:Theater 11 Thurgauerstrasse 7, 8050 Zürich
TRANSP:OPAQUE
SEQUENCE:0
UID:3786b48e-f712-43cc-a8df-207db72d4ae3-0
DTSTAMP:20260423T193000
DESCRIPTION:Erlebe Tina Turners triumphale Geschichte live auf der Bühne in dieser mitreissenden Hommage an die Frau, die es wagte, grosse Träume zu leben, alle Grenzen zu sprengen und die Welt im Sturm zu erobern. \n\nMit ihren legendären Hits, wie ‘’River Deep, Mountain High“, ‘’We Don't Need Another Hero (Thunderdome)“, ‘’Proud Mary“, ‘’The Best“ und ‘’What's Love Got To Do With It“ feierst du diese grandiose Show, die ‘’simply the best’’ ist!\n\nPräsentiert in Zusammenarbeit mit Tina Turner, geschrieben von der mit dem Olivier Award und dem Pulitzer-Preis ausgezeichneten Dramatikerin Katori Hall (The Mountaintop) und unter der Regie der international gefeierten Phyllida Lloyd (Mamma Mia!).\n\nSprache: Englisch\n\nWeitere Informationen: www.musical.ch/thetinaturnermusical\n\nZusatzinformationen:\nU30 (17-29 Jahre) gültig in Kategorie 2 und 3.\nFamily Special 50% buchbar für 4 Personen inkl. 2 Kinder bis 16 Jahre.\nAusweis muss beim Einlass vorgewiesen werden. Angebote limitiert.\n\nhttps://www.musical.ch/de/thetinaturnermusical\n\nKontakt\nFBM Entertainment\nZollikerstrasse 141\n8008 Zürich\n+41 (0)44 265 56 56\n\nVerfügbarkeit / Datum, Zeit\n23.4.2026 19:30 - \n24.4.2026 19:30 - \n25.4.2026 14:30 - \n25.4.2026 19:30 - \n26.4.2026 13:30 - \n26.4.2026 18:30 - \n28.4.2026 19:30 - \n29.4.2026 18:30 - \n30.4.2026 19:30 - \n1.5.2026 19:30 - \n2.5.2026 14:30 - \n2.5.2026 19:30 - \n3.5.2026 13:30 - \n3.5.2026 18:30 - \n\nPreis\nVon CHF 57.00 bis CHF 157.00 (inkl. Vorverkaufs-, exkl. Servicegebühr)\n\nVorverkauf\nhttps://www.ticketcorner.ch/artist/tina-the-tina-turner-musical/tina-the-tina-turner-musical-3992381/?affiliate=FBM&referer_info=fbm_guidle\n\n\nDas Angebot im Detail: https://www.guidle.com/angebote/1208077423/tina_-_the_tina_turner_musical/zurich\nQuelle: www.guidle.com
SUMMARY:TINA - The Tina Turner Musical
PRIORITY:5
X-MICROSOFT-CDO-IMPORTANCE:1
CLASS:PUBLIC
BEGIN:VALARM
TRIGGER:-P1D
ACTION:DISPLAY
DESCRIPTION:Reminder
END:VALARM
END:VEVENT
END:VCALENDAR