BEGIN:VCALENDAR
PRODID:-//Microsoft Corporation//Outlook 11.0 MIMEDIR//EN
VERSION:2.0
METHOD:PUBLISH
BEGIN:VEVENT
DTSTART:20260424T143000
DTEND:20260731T160000
LOCATION:Il Fuorn Via Cumünela 100, 7522 La Punt Chamues-ch
TRANSP:OPAQUE
RRULE:FREQ=WEEKLY;INTERVAL=1;UNTIL=20260731T160000;WKST=MO;BYDAY=FR
UID:7139f054-6abd-4876-80d2-aa7131404567-0
DTSTAMP:20260424T143000
DESCRIPTION:Offener Treff im "Il Fuorn" - Spielen - Freunde treffen - Kaffee trinken. Ein Treff offen für alle, ohne Anmeldung.\n\nhttps://www.refurmo.ch\n\nKontakt\nEvang.-ref. Kirchgemeinde Oberengadin\nDirk Andexel\nSozialdiakon\nFuschigna 8\n7502 Bever\n+41 81 852 46 02\n+41 79 742 46 02\n\nVerfügbarkeit / Datum, Zeit\n19.1.2026 - 31.7.2026 14:30 - 16:00 Fr\n\n\nDas Angebot im Detail: https://www.guidle.com/angebote/1208093942/offener_treff_im_il_fuorn_la_punt_chamues-ch/la_punt_chamues-ch\nQuelle: https://www.guidle.com
SUMMARY:Offener Treff im "Il Fuorn", La Punt Chamues-ch
PRIORITY:5
X-MICROSOFT-CDO-IMPORTANCE:1
CLASS:PUBLIC
BEGIN:VALARM
TRIGGER:-P1D
ACTION:DISPLAY
DESCRIPTION:Reminder
END:VALARM
END:VEVENT
END:VCALENDAR