BEGIN:VCALENDAR
PRODID:-//Microsoft Corporation//Outlook 11.0 MIMEDIR//EN
VERSION:2.0
METHOD:PUBLISH
BEGIN:VEVENT
DTSTART:20261029T200000
LOCATION:Millers  Seefeldstrasse 225, 8008 Zürich
TRANSP:OPAQUE
SEQUENCE:0
UID:3a29d482-c9eb-4b8e-bb29-5e3336544096-0
DTSTAMP:20261029T200000
DESCRIPTION:Ein ebenso fesselndes wie himmelschreiend komisches Programm und ein wilder Ritt durch musikalische Genres. Vorlauter als Kirchenmusik, alberner als Schlager, poppiger als Operette und fröhlicher als Jazz (ver)führt Caroline Bungeroth durch musikalisches Kabarett, bei dem kein Auge trocken bleibt. Frei nach dem Motto: Lieber ‘ne gesunde Verdorbenheit, als ‘ne verdorbene Gesundheit!\n\n«Caroline Bungeroth schafft als Pianistin, Sängerin und Kabarettistin – die ebenso seltene wie krasse Kombination von Primadonna assoluta und umwerfend komischer Berliner Göre!» Viktor Giacobbo, «(Noch) ein absoluter Geheimtipp.» Patti Basler\n\nCaroline Bungeroth: Text, Musik, Gesang, Klavier, Ukulele, Blockflöte, Keyboard, Percussion, Regie: Gerd Normann\n\nFoto: Chris Krebs Photography\n\nhttps://www.millers.ch/spielplan/detail/bittersuesse-beichte-2883\n\nKontakt\nMillers\nSeefeldstrasse 225 \n8008  Zürich\n+41 44 387 99 79\n\nVerfügbarkeit / Datum, Zeit\n29.10.2026 20:00 - \n\nPreis\nAb CHF 38.00\n\nVorverkauf\nhttps://www.millers.ch/spielplan/detail/bittersuesse-beichte-2883\n\n\nDas Angebot im Detail: https://www.guidle.com/angebote/1208104938/caroline_bungeroth__bittersusse_beichte/zurich\nQuelle: https://www.guidle.com
SUMMARY:Caroline Bungeroth – Bittersüsse Beichte
PRIORITY:5
X-MICROSOFT-CDO-IMPORTANCE:1
CLASS:PUBLIC
BEGIN:VALARM
TRIGGER:-P1D
ACTION:DISPLAY
DESCRIPTION:Reminder
END:VALARM
END:VEVENT
END:VCALENDAR