BEGIN:VCALENDAR
PRODID:-//Microsoft Corporation//Outlook 11.0 MIMEDIR//EN
VERSION:2.0
METHOD:PUBLISH
BEGIN:VEVENT
DTSTART:20261113T200000
DTEND:20261113T220000
LOCATION:Restaurant Weisser Wind, Theatersaal Oberdorfstrasse 20, 8001 Zürich
TRANSP:OPAQUE
SEQUENCE:0
UID:48dcba54-cbaa-4819-94f4-1c372852e191-0
DTSTAMP:20261113T200000
DESCRIPTION:Was passiert, wenn die treibenden elektronischen Grooves von Stereo Kulisse auf die lebendige Klangwelt der Schweizer Volksmusik treffen? Für den Abschlussabend von Artländler bringt Pirmin Huber erstmals seine beiden musikalischen Welten zusammen – das folkige Pirmin Huber Swiss Folk und das technoide Stereo Kulisse. Speziell für diesen Abend entsteht ein Programm, das sich jeder Schublade entzieht: Ländler-Melodien verschmelzen mit pulsierenden Synthesizern, traditionelle Instrumente mit clubtauglichen Beats, Improvisation mit packendem Drive. Wie es klingen wird? Niemand weiss es – und genau darin liegt die Magie. Sicher ist nur: Diese Uraufführung lädt nicht nur zum Hören, sondern auch zum Tanzen ein.\n\nhttps://www.artlaendler.ch/\n\nKontakt\nfattinihuber entertainment gmbh\nRamona Fattini\nZurlindenstrasse 215a\n8003 Zürich\n+41 41 218 79 03\n\nVerfügbarkeit / Datum, Zeit\n13.11.2026 20:00 - 22:00\n\nTüröffnung: 19.00 Uhr\n\nPreis\nCHF 40.00 \nCHF 20.00 (Kinder, Studierende)\n\nVorverkauf\nhttps://eventfrog.ch/de/p/gruppen/artlaendler-tradition-und-moderne-vereint-7052711577720362996.html\n\n\nDas Angebot im Detail: https://www.guidle.com/angebote/1211224663/artlandler_-_pirmin_huber_swiss_folk_feat_stereo_kulisse/zurich\nQuelle: https://www.guidle.com
SUMMARY:ArtLändler - Pirmin Huber Swiss Folk feat Stereo Kulisse
PRIORITY:5
X-MICROSOFT-CDO-IMPORTANCE:1
CLASS:PUBLIC
BEGIN:VALARM
TRIGGER:-P1D
ACTION:DISPLAY
DESCRIPTION:Reminder
END:VALARM
END:VEVENT
END:VCALENDAR