BEGIN:VCALENDAR
PRODID:-//Microsoft Corporation//Outlook 11.0 MIMEDIR//EN
VERSION:2.0
METHOD:PUBLISH
BEGIN:VEVENT
DTSTART:20261201T091500
DTEND:20261201T094500
LOCATION:Gemeindebibliothek und Ludothek Ostermundigen Bernstrasse 72, 3072 Ostermundigen
TRANSP:OPAQUE
SEQUENCE:0
UID:bdf14d27-3e60-4b0b-8bd7-e9e0819be3b0-0
DTSTAMP:20261201T091500
DESCRIPTION:Geschichte, Verse, Lieder mit Carmen Lüthi.\n\nFür Kinder bis 4 Jahre in Begleitung.\n\nJeweils von 9:15 bis ca. 09:45 Uhr oder von 10:15 bis ca. 10:45 Uhr.\n\nIm Anschluss ist die Rückgabe und Ausleihe von Medien möglich.\n\nAnmeldung an der Theke oder per E-Mail (<a href="mailto:ostermundigen@kob.ch">ostermundigen@kob.ch</a>) bis am Samstag vor der Veranstaltung (bitte gewünschte Uhrzeit angeben).\n\nKostenlos.\n\nQuelle: Kornhausbibliothek\nLizenz: <a href="https://creativecommons.org/licenses/by-sa/4.0/deed.de">CC BY-SA 4.0</a>\n\nhttps://www.kob.ch/veranstaltung/vaersli-fuer-di-chlyne-3/\n\nVerfügbarkeit / Datum, Zeit\n1.12.2026 09:15 - 09:45\n\n\nDas Angebot im Detail: https://www.guidle.com/angebote/1213047870/varsli_fur_di_chlyne/ostermundigen\nQuelle: https://www.guidle.com
SUMMARY:Värsli für di Chlyne
PRIORITY:5
X-MICROSOFT-CDO-IMPORTANCE:1
CLASS:PUBLIC
BEGIN:VALARM
TRIGGER:-P1D
ACTION:DISPLAY
DESCRIPTION:Reminder
END:VALARM
END:VEVENT
END:VCALENDAR