BEGIN:VCALENDAR
PRODID:-//Microsoft Corporation//Outlook 11.0 MIMEDIR//EN
VERSION:2.0
METHOD:PUBLISH
BEGIN:VEVENT
DTSTART:20260423T200000
DTEND:20260423T220000
LOCATION:Auer & Co Sihlquai 131, 8005 Zürich
TRANSP:OPAQUE
SEQUENCE:0
UID:f7204fce-d655-4a82-b5af-3e0129ca994c-0
DTSTAMP:20260423T200000
DESCRIPTION:An amazing night of English stand up comedy featuring new and established comedians trying out their new jokes in front of a live audience, every Thursday!\n\nThis show sells out, so buy your tickets now!\n\nDoors open at 19:30\nArrive early to get a drink and save the best seats.\nThe show is in English\nPhotos of the show may be taken for promotional purposes.\nTell everyone about it and check out our future shows as www.comedykiss.ch and follow us on Instagram at @comedykiss.ch.\n\nWant to try comedy?\n\nThen complete our Thursday night Registration Form  https://docs.google.com/forms/d/e/1FAIpQLSeWzp2TTaGFFwy_KsvcersNKCKnRhEzWZp1SexN3wvQAtZYEA/viewform - Acts confirmed on the weekend before the show.\n\nhttps://www.comedykiss.ch/\n\nKontakt\nComedy Kiss\n\nVerfügbarkeit / Datum, Zeit\n23.4.2026 20:00 - 22:00\n30.4.2026 20:00 - 22:00\n7.5.2026 20:00 - 22:00\n21.5.2026 20:00 - 22:00\n28.5.2026 20:00 - 22:00\n4.6.2026 20:00 - 22:00\n11.6.2026 20:00 - 22:00\n18.6.2026 20:00 - 22:00\n25.6.2026 20:00 - 22:00\n\nDoors open at 19:30\n\nPreis\nRegular: CHF 12.00\nGroup Ticket (+4 people): CHF 10.00 \n\nVorverkauf\nhttps://eventfrog.ch/en/p/groups/thursday-open-mic-comedy-zurich-7322895273490950362.html\n\n\nDas Angebot im Detail: https://www.guidle.com/angebote/1213193487/comedy_kiss_thursday_open_mic/zurich\nQuelle: www.guidle.com
SUMMARY:Comedy Kiss Thursday Open Mic
PRIORITY:5
X-MICROSOFT-CDO-IMPORTANCE:1
CLASS:PUBLIC
BEGIN:VALARM
TRIGGER:-P1D
ACTION:DISPLAY
DESCRIPTION:Reminder
END:VALARM
END:VEVENT
END:VCALENDAR