BEGIN:VCALENDAR
PRODID:-//Microsoft Corporation//Outlook 11.0 MIMEDIR//EN
VERSION:2.0
METHOD:PUBLISH
BEGIN:VEVENT
DTSTART:20261215T200000
LOCATION:Kulturzentrum Braui Brauiplatz 5, 6280 Hochdorf
TRANSP:OPAQUE
SEQUENCE:0
UID:65b125f3-97e7-40bb-8ea3-4e767fc3eaa1-0
DTSTAMP:20261215T200000
DESCRIPTION:Im neuen 11. Bühnenprogramm «PRSPKTVNWCHSL»\n \nWas bleibt, wenn die Hälfte fehlt? Wann ist der richtige Zeitpunkt – und wann der falsche? Und wie lange dauern eigentlich fünf Minuten … gefühlt? Ursus & Nadeschkin denken quer, drehen Zeit und Rollen auf links und bringen ein Gesamtkunstwerk auf die Bühne, das sich irgendwo zwischen Sprachakrobatik, Musik, Tanz und grandioser Verwirrung bewegt. Witzig, überraschend und absurd klug.\n\nSeit über drei Jahrzehnten touren die Ehrenpreisträger des Deutschen Kleinkunstpreises 2024 durch die Welt. Von Zürich bis New York, von Berlin bis Melbourne, vom Konzertsaal in den Zirkus, vom Fernsehen ins Schauspielhaus. Die beiden springen zwischen Schubladen, tun was niemand von ihnen erwartet, spielen mit Timing, loten die Tiefen und Untiefen zwischen Dada, Artistik und Komik aus und provozieren leidenschaftlich und mit Charme. Ihr 11. Bühnenprogramm «PRSPKTVNWCHSL» ist eine hochkomische Expedition ins Ungewisse – für alle, die bereit sind, ihr Denken auf den Kopf zu stellen.\n\n«Absurder Humor kollidiert mit geistreichem Theater und knallt einem hochgradig beflügelnd und wahnsinnig unterhaltsam an die durchaus erwartungsvolle Birne.»\n\nRegie: Tom Ryser\nAutoren: Nadja Sieger, Urs Wehrli, Tom Ryser\nTechnik: Tobias Müller, Lucas Hallauer\nBühnenbild: Peter Affentranger\nProduktionsassistenz: Céline Hafner\nUnterstützung Messerwurftraining: Caroline Haerdi\nRitterrüstung-Beratung: Die Hofmeisterinnen des Drachenhorts\nSchmied: Waffenschmiede Huttwil, Reto Zürcher\n\nMitwirkende: Nadeschkin\n\nhttps://www.seetalevents.ch/2/Home\n\nKontakt\nSeetal Events\nUrswilstrasse 3\n6275  Ballwil\n\nVerfügbarkeit / Datum, Zeit\n15.12.2026 20:00 - \n16.12.2026 20:00 - \n17.12.2026 20:00 - \n\nPreis\n1. Kategorie: CHF 67.60\n2. Kategorie: CHF 59.50\n3. Kategorie: CHF 49.10\n\nVorverkauf\nhttps://www.ticketcorner.ch/artist/ursus-nadeschkin/ursus-nadeschkin-prspktvnwchsl-3781116/?affiliate=GUI&utm_source=GUI&utm_medium=dp&utm_campaign=guidle\n\n\nDas Angebot im Detail: https://www.guidle.com/angebote/1215348188/ursus__nadeschkin_-_prspktvnwchsl/hochdorf\nQuelle: https://www.guidle.com
SUMMARY:Ursus & Nadeschkin - PRSPKTVNWCHSL
PRIORITY:5
X-MICROSOFT-CDO-IMPORTANCE:1
CLASS:PUBLIC
BEGIN:VALARM
TRIGGER:-P1D
ACTION:DISPLAY
DESCRIPTION:Reminder
END:VALARM
END:VEVENT
END:VCALENDAR