BEGIN:VCALENDAR
PRODID:-//Microsoft Corporation//Outlook 11.0 MIMEDIR//EN
VERSION:2.0
METHOD:PUBLISH
BEGIN:VEVENT
DTSTART:20260825T083000
DTEND:20260825T160000
LOCATION:Haus Weisser Bleichestrasse 11, 8280 Kreuzlingen
TRANSP:OPAQUE
SEQUENCE:0
UID:33c663b9-ceb1-47a5-8e08-4da8a6ff5c72-0
DTSTAMP:20260825T083000
DESCRIPTION:Für weitere Informationen siehe https://www.evang-kreuzlingen.ch/bericht/1476\n\nhttps://www.evang-kreuzlingen.ch/veranstaltung/26286\n\nKontakt\nPfr. Damian Brot\n\nVerfügbarkeit / Datum, Zeit\n25.8.2026 08:30 - 16:00\n\n\nDas Angebot im Detail: https://www.guidle.com/angebote/1217181647/schulden-_und_budgetberatungen_caritas/kreuzlingen\nQuelle: https://www.guidle.com
SUMMARY:Schulden- und Budgetberatungen Caritas
PRIORITY:5
X-MICROSOFT-CDO-IMPORTANCE:1
CLASS:PUBLIC
BEGIN:VALARM
TRIGGER:-P1D
ACTION:DISPLAY
DESCRIPTION:Reminder
END:VALARM
END:VEVENT
END:VCALENDAR