BEGIN:VCALENDAR
PRODID:-//Microsoft Corporation//Outlook 11.0 MIMEDIR//EN
VERSION:2.0
METHOD:PUBLISH
BEGIN:VEVENT
DTSTART:20260529T190000
DTEND:20260529T203000
LOCATION:Evang.-ref. Kirche Trogen Landsgemeindeplatz 1, 9043 Trogen
TRANSP:OPAQUE
SEQUENCE:0
UID:3f0a138e-e0db-42c8-81e0-25928c47c391-0
DTSTAMP:20260529T190000
DESCRIPTION:In aller Grossartigkeit blieb Bach stets bodenständig und neigte an sich kaum zur kompositorischen Hybris. Doch der von ihm 1729 in der Sinfonia zur Kantate BWV 174 vorgelegte Versuch, den bereits zehnstimmigen Kopfsatz des Brandenburgischen Konzertes Nr. 3 noch um ein obligates Hörnerpaar sowie einen Oboen-Streicher-Chor zu erweitern, kommt in seiner kühnen Meisterschaft einer solchen doch ziemlich nahe. Ob Bach so den in der Kantate thematisierten himmelweiten Unterschied zwischen göttlicher Majestät und unvollkommenem menschlichem Liebesstreben ausdrücken wollte, muss offenbleiben. Die auf dieses massive Portal folgenden Rezitative und Arien versuchen sich jedenfalls nicht an einer weiteren Überbietung, sondern setzen ganz auf dezente Klangfarben und klug disponierte Unisonoführungen.\n\nMit einer Reflexion über den Kantatentext von Olivia El Sayed.\n\nMitwirkende: \nLia Andres, Sopran\nElvira Bill, Alt\nBernhard Berchtold, Tenor\nSebastian Noack, Bass\n\nOrchester der J. S. Bach-Stiftung\nRudolf Lutz, Leitung\n\nProgramm:\n17.30 Uhr \nMusikalisch-theologische Werkeinführung mit Rudolf Lutz und Pfr. Niklaus Peter\n\n19.00 - ca. 20.30 Uhr\n1. Konzertaufführung\nReflexion\n2. Konzertaufführung\n\nhttps://www.bachstiftung.ch\n\nKontakt\nJ. S. Bach St. Gallen AG\nMuseumstrasse 1\n9004 St. Gallen\n+41 71 242 16 61\n\nVerfügbarkeit / Datum, Zeit\n29.5.2026 19:00 - 20:30\n\nPreis\nCHF 10.00 bis CHF 60.00\n\nVorverkauf\nhttps://442hz.com/de/ensembles/JSBS-StGallen/shop/event/144551/#event\n\n\nDas Angebot im Detail: https://www.guidle.com/angebote/1217317560/j_s_bach_bwv_174_ich_liebe_den_hochsten_von_ganzem_gemute/trogen\nQuelle: https://www.guidle.com
SUMMARY:J. S. Bach: BWV 174 «Ich liebe den Höchsten von ganzem Gemüte»
PRIORITY:5
X-MICROSOFT-CDO-IMPORTANCE:1
CLASS:PUBLIC
BEGIN:VALARM
TRIGGER:-P1D
ACTION:DISPLAY
DESCRIPTION:Reminder
END:VALARM
END:VEVENT
END:VCALENDAR