BEGIN:VCALENDAR
PRODID:-//Microsoft Corporation//Outlook 11.0 MIMEDIR//EN
VERSION:2.0
METHOD:PUBLISH
BEGIN:VEVENT
DTSTART:20261107T103000
DTEND:20261107T143000
LOCATION:9620 Lichtensteig
TRANSP:OPAQUE
SEQUENCE:0
UID:d206948d-b05d-49c2-aeda-845e6749848d-0
DTSTAMP:20261107T103000
DESCRIPTION:Lichtensteig war über Jahrhunderte das wirtschaftliche Zentrum des Toggenburgs – ein Ort des Handels, der Innovation und der Produktion für nationale und internationale Märkte. Doch der Strukturwandel ab den 1970er-Jahren hinterliess deutliche Spuren: Leerstände, ungenutzte Industriebrachen und eine schrumpfende Bevölkerung prägten das Stadtbild.\n\nPolitik, Bevölkerung und Wirtschaft entwickelten gemeinsam Strategien, um Leerstand als Chance zu begreifen – und die Altstadt neu zu beleben. Heute positioniert sich Lichtensteig als «Mini.Stadt»: eine selbstbewusste Kleinstadt, die bezahlbaren Raum für Ideen, Kreativität und Begegnung bietet.\n\n\nhttps://www.zuerioberland.ch/events/exkursion-begegnungsorte-2026/\n\nKontakt\nStandortförderung Zürioberland\nBahnhofstrasse 13\n8494 Bauma\n052 396 50 90\n\nVerfügbarkeit / Datum, Zeit\n7.11.2026 10:30 - 14:30\n\n10.30 Uhr – Begrüssung durch Jacqueline Falk, Leiterin Geschäftsfeld Kultur und Gesellschaft\n10.35 Uhr – Führung mit Mathias Müller\n12.15 Uhr – Pause & Erfahrungsaustausch bei Lunchpaket und Getränken\n12.45 Uhr – Zweiter Teil der Führung mit Mathias Müller\n14.30 Uhr – Ende der Exkursion\n\nPreis\nMitglieder (z.B. Gemeinde-Angestellte): kostenlos\n(Bei unentschuldigtem Nichterscheinen bis Do, 5.11.2026, wird ein Unkostenbeitrag von CHF 25 verrechnet.)\nGäste (z.B. Fachleute, Interessierte aus anderen Regionen): CHF 25\n\nVorverkauf\nzuerioberland.ch\nhttps://www.zuerioberland.ch/events/exkursion-begegnungsorte-2026/?_rt=MXwxfGxpY2h0ZW5zdGVpZ3wxNzYyODU3MTU2&_rt_nonce=2330922699\n\n\nDas Angebot im Detail: https://www.guidle.com/angebote/1219200576/leerstehende_gebaude_umnutzen_und_begegnungsraume_schaffen/lichtensteig\nQuelle: https://www.guidle.com
SUMMARY:Leerstehende Gebäude umnutzen und Begegnungsräume schaffen
PRIORITY:5
X-MICROSOFT-CDO-IMPORTANCE:1
CLASS:PUBLIC
BEGIN:VALARM
TRIGGER:-P1D
ACTION:DISPLAY
DESCRIPTION:Reminder
END:VALARM
END:VEVENT
END:VCALENDAR