BEGIN:VCALENDAR
PRODID:-//Microsoft Corporation//Outlook 11.0 MIMEDIR//EN
VERSION:2.0
METHOD:PUBLISH
BEGIN:VEVENT
DTSTART:20270129
LOCATION:Société du Carnaval d'Estavayer - SOCAREST Case postale , 1470 Estavayer-le-Lac
TRANSP:OPAQUE
SEQUENCE:0
UID:c5ce5b40-21fb-4614-a4f4-8744141ac190-0
DTSTAMP:20270129T120000
DESCRIPTION:Konfetti-Schlachten, Maskenwettbewerbe, Umzüge für Jung und Alt: Drei Tage lang verkauft die mittelalterliche Stadt ihre Seele an das Feiern und den wilden Rhythmus.Lachen und Kostüme stehen auf dem Programm. Das Ende des Winters ist nah.... wir heizen noch einmal tüchtig ein!\n\nhttps://fribourg.ch/de/estavayer-payerne/veranstaltungen/fasnacht-in-estavayer/\n\nKontakt\nSociété du Carnaval d'Estavayer - SOCAREST\nEstavayer-le-Lac\n1470 Estavayer-le-Lac\n\nVerfügbarkeit / Datum, Zeit\n29.1.2027 \n30.1.2027 \n31.1.2027 \n\n\nDas Angebot im Detail: https://www.guidle.com/angebote/1219227889/fasnacht_in_estavayer/estavayer-le-lac\nQuelle: https://www.guidle.com
SUMMARY:Fasnacht in Estavayer
PRIORITY:5
X-MICROSOFT-CDO-IMPORTANCE:1
CLASS:PUBLIC
BEGIN:VALARM
TRIGGER:-P1D
ACTION:DISPLAY
DESCRIPTION:Reminder
END:VALARM
END:VEVENT
END:VCALENDAR