BEGIN:VCALENDAR
PRODID:-//Microsoft Corporation//Outlook 11.0 MIMEDIR//EN
VERSION:2.0
METHOD:PUBLISH
BEGIN:VEVENT
DTSTART:20260510T130000
DTEND:20260510T170000
LOCATION:SIG Areal Heinrich Moser-Platz 1, 8212 Neuhausen
TRANSP:OPAQUE
SEQUENCE:0
UID:5d1fce35-598a-4178-8c13-8a56b68e39d6-0
DTSTAMP:20260510T130000
DESCRIPTION:Am 10.5.2026 findet die erste Austragung des Wings for Life World Run als App Run Schaffhausen in Neuhausen (Start im SIG Areal) statt. 100% der Erlöse aus Startgeldern und Spenden gehen an die Wings for Life Stiftung, welche die Forschung zur Heilung von Rückenmarksverletzungen unterstützt um Querschnittslähmung heilbar zu machen. Der Lauf unter dem Titel "Laufen für jene, die es nicht können" steht ganz im Zeichen des guten Zwecks.\n\nhttps://wflwr-schaffhausen.ch/\n\nKontakt\nSPORTSmove GmbH\nGünter Wagner\nRheinweg 1b\n8200 Schaffhausen\n0792140831\n\nVerfügbarkeit / Datum, Zeit\n10.5.2026 13:00 - 17:00\n\nProgramm im SIG Areal (Neuhausen) ab 11.30 Uhr\n\nPreis\nCHF 27.00\n\nVorverkauf\nhttps://www.wingsforlifeworldrun.com/de/locations/schaffhausen\n\n\nDas Angebot im Detail: https://www.guidle.com/angebote/1219703098/wings_for_life_world_run_-_app_run_event_schaffhausen/neuhausen\nQuelle: https://www.guidle.com
SUMMARY:Wings for Life World Run - App Run Event Schaffhausen
PRIORITY:5
X-MICROSOFT-CDO-IMPORTANCE:1
CLASS:PUBLIC
BEGIN:VALARM
TRIGGER:-P1D
ACTION:DISPLAY
DESCRIPTION:Reminder
END:VALARM
END:VEVENT
END:VCALENDAR