BEGIN:VCALENDAR
PRODID:-//Microsoft Corporation//Outlook 11.0 MIMEDIR//EN
VERSION:2.0
METHOD:PUBLISH
BEGIN:VEVENT
DTSTART:20260524T180000
DTEND:20260524T200000
LOCATION:LABOR5 Schiffbaustrasse 3, 8005 Zürich
TRANSP:OPAQUE
SEQUENCE:0
UID:8b024dc5-6289-4554-aa50-f073b7d7d8ea-0
DTSTAMP:20260524T180000
DESCRIPTION:Mit seinem neuen Programm Reinkanaktion meldet sich der Comedian Faisal Kawusi eindrucksvoll zurück – ehrlicher, direkter und selbstironischer denn je. Auf der Bühne im Labor5 verarbeitet er persönliche Rückschläge, gesellschaftlichen Druck und den steinigen Weg zurück ins Licht mit Witz und Tiefgang. Reinkanaktion ist kein klassisches Comedy-Programm: Es ist ein mutiger Neuanfang — zwischen Aufstehen nach dem Fall und der Suche nach Identität. Mit scharfsinnigen Beobachtungen über Kultur, Selbstbild und Medienwelt liefert Kawusi nicht nur Lacher, sondern echte Impulse zum Nachdenken. Ein Abend, der bewegt, provoziert und befreit.\n\nhttps://www.dinimuettercomedy.ch\n\nKontakt\nDini Muetter Comedy\n\nVerfügbarkeit / Datum, Zeit\n24.5.2026 18:00 - 20:00\n\nEinlass: 17:00 Uhr\ninkl. Pause während der Show\n\nPreis\nAb CHF 42.00\n\nVorverkauf\nhttps://www.seetickets.com/ch/event/faisal-kawusi-reinkanaktion/labor-5/3561416?src=guidle\n\n\nDas Angebot im Detail: https://www.guidle.com/angebote/1223911474/standup_comedy_faisal_kawusi_-_reinkanaktion/zurich\nQuelle: https://www.guidle.com
SUMMARY:STANDUP COMEDY: Faisal Kawusi - Reinkanaktion
PRIORITY:5
X-MICROSOFT-CDO-IMPORTANCE:1
CLASS:PUBLIC
BEGIN:VALARM
TRIGGER:-P1D
ACTION:DISPLAY
DESCRIPTION:Reminder
END:VALARM
END:VEVENT
END:VCALENDAR