BEGIN:VCALENDAR
PRODID:-//Microsoft Corporation//Outlook 11.0 MIMEDIR//EN
VERSION:2.0
METHOD:PUBLISH
BEGIN:VEVENT
DTSTART:20261208T153000
DTEND:20261208T173000
LOCATION:Kornhausbibliothek Kornhausplatz 18, 3011 Bern
TRANSP:OPAQUE
SEQUENCE:0
UID:e30d2c2d-59b1-424c-9852-26633aa59a17-0
DTSTAMP:20261208T153000
DESCRIPTION:DigiTreff\n<b>Wir helfen Ihnen weiter!\n\n</b><b>Gratis und unkompliziert bei Fragen wie …</b>\n\n– Eröffnen eines E-Mail-Kontos\n\n– Herunterladen einer App\n\n– Lösen eines Online-Tickets\n\n– Finden von Job- und Wohnungsinseraten im Internet\n\n– Verwenden eines QR-Codes\n\n– Fragen zu KI (Künstliche Intelligenz)\n\n– Fragen rund um E-Books\n\n– Fragen zu digitalen Angeboten der Bibliothek\n\n<strong>Jeweils Dienstag, 15.30 – 17.30 Uhr in der Kornhausbibliothek (ausser in den Schulferien)</strong>, ohne Voranmeldung, max. 20 Minuten pro Person.\n\nEine Kooperation der Caritas Bern und der Kornhausbibliothek.\n\nQuelle: Kornhausbibliothek\nLizenz: <a href="https://creativecommons.org/licenses/by-sa/4.0/deed.de">CC BY-SA 4.0</a>\n\nhttps://www.kob.ch/veranstaltung/der-digital-wegweiser-in-der-bibliothek/\n\nVerfügbarkeit / Datum, Zeit\n8.12.2026 15:30 - 17:30\n\n\nDas Angebot im Detail: https://www.guidle.com/angebote/1225812389/digitreff__der_digital-wegweiser_in_der_bibliothek/bern\nQuelle: https://www.guidle.com
SUMMARY:DigiTreff – Der Digital-Wegweiser in der Bibliothek
PRIORITY:5
X-MICROSOFT-CDO-IMPORTANCE:1
CLASS:PUBLIC
BEGIN:VALARM
TRIGGER:-P1D
ACTION:DISPLAY
DESCRIPTION:Reminder
END:VALARM
END:VEVENT
END:VCALENDAR