BEGIN:VCALENDAR
PRODID:-//Microsoft Corporation//Outlook 11.0 MIMEDIR//EN
VERSION:2.0
METHOD:PUBLISH
BEGIN:VEVENT
DTSTART:20260717T093000
DTEND:20260719T170000
LOCATION:Kartause Ittingen, 8532 Warth
TRANSP:OPAQUE
RRULE:FREQ=WEEKLY;INTERVAL=1;UNTIL=20260719T170000;WKST=MO;BYDAY=FR,SA,SU
UID:41c464a3-f886-4385-b1a4-61f4965b4da9-0
DTSTAMP:20260717T093000
DESCRIPTION:Wochenend–Intensivkurs Frühling / Sommer, Drehen an der Töpferscheibe\nDer dreitägige Kurs bietet intensives Lernen und volle Konzentration auf das Drehen. Im Mittelpunkt stehen das praktische Arbeiten und das Kennenlernen neuer Techniken. Schritt für Schritt werden die Abläufe des Zentrierens, Drehens und Abdrehens vermittelt. Mit fachlicher Begleitung entstehen Schalen, Becher, Zylinder, Vasen oder Teller – auf Wunsch auch mit Fokus auf eine bestimmte Form. Der Kurs findet in der Töpferei der Kartause Ittingen in einer historischen Klause statt, umgeben von Gebäuden, Gärten und Natur. Er richtet sich an Einsteigende wie an Fortgeschrittene und dauert jeweils von 09.30 bis 17.00 Uhr.\n\nVoraussetzung: Geeignet für Anfängerinnen und Fortgeschrittene\nOrt: Töpferei-Klause, Kartause Ittingen\nKursleitung: Jolanda Sigg und/oder Barbara Lienhard, die Keramikerinnen\n\nKurskosten: CHF 720.00\nInkl. vegetarisches 2-Gang-Mittagessen im Restaurant Mühle.\nInkl. Material zum Üben. Zudem werden die zwei schönsten Stücke glasiert und gebrannt.\n\nWeitere Stücke können gegen Aufpreis glasiert und gebrannt werden oder an einem Glasurtag in der Töpferei veredelt werden. Wer über eine eigene Brennmöglichkeit verfügt, kann die gefertigten Arbeiten auch mit nach Hause nehmen.\n\n\nhttps://www.kartause.ch/de/wochenendintensivkurs-drehen-an-der-toepferscheibe-fruehling\n\nKontakt\nKartause Ittingen\nKartause Ittingen, Gastwirtschaftsbetrieb\n8532 Warth\n+41 52 748 44 11\n\nVerfügbarkeit / Datum, Zeit\n17.7.2026 - 19.7.2026 09:30 - 17:00 Fr, Sa, So\n\nPreis\nCHF 720.00 (Kursgeld inkl. vegetarisches Mittagessen)\n\n\nDas Angebot im Detail: https://www.guidle.com/angebote/1227361543/wochenendintensivkurs_drehen_an_der_topferscheibe_fruhling__sommer/warth\nQuelle: https://www.guidle.com
SUMMARY:Wochenend–Intensivkurs "Drehen an der Töpferscheibe" Frühling / Sommer
PRIORITY:5
X-MICROSOFT-CDO-IMPORTANCE:1
CLASS:PUBLIC
BEGIN:VALARM
TRIGGER:-P1D
ACTION:DISPLAY
DESCRIPTION:Reminder
END:VALARM
END:VEVENT
END:VCALENDAR