BEGIN:VCALENDAR
PRODID:-//Microsoft Corporation//Outlook 11.0 MIMEDIR//EN
VERSION:2.0
METHOD:PUBLISH
BEGIN:VEVENT
DTSTART:20260925T200000
LOCATION:Theater Fauteuil - Tabourettli Spalenberg 12, 4051 Basel
TRANSP:OPAQUE
SEQUENCE:0
UID:43d85abe-0d54-431a-8684-fb0f9b6d0175-0
DTSTAMP:20260925T200000
DESCRIPTION:Es gibt ein Wiedersehen mit Hansjörg und Margrit Schneuwly, diesmal nicht im Flimmerkasten, sondern live auf der Bühne! Nachdem sie sich durch die Welt des Kiffens navigiert, Paartherapien überlebt und sogar die geheimnisvollen Tore eines Swingerclubs geöffnet haben, wagen sie sich nun an ihr kühnstes Experiment: Eine Theaterproduktion. Bereiten Sie sich auf eine Silvesternacht voller Lacher vor, in der das traditionelle Dinner for One mit einer gehörigen Portion absurden Schneuwlyismus serviert wird.\n\nhttps://www.fauteuil.ch\n\nKontakt\nTheater Fauteuil\nSpalenberg 12\n4051 Basel\n+41 61 261 26 10\n\nVerfügbarkeit / Datum, Zeit\n25.9.2026 20:00 - \n26.9.2026 20:00 - \n\nPreis\nCHF 39.00 / 49.00\n\nVorverkauf\nTheaterkasse am Spalenberg 12, Telefon 061 261 26 10\nhttps://www.fauteuil.ch/spielplan/schneuwlys-machen-ein-theater/\n\n\nDas Angebot im Detail: https://www.guidle.com/angebote/1227925016/experiment_schneuwly_-_schneuwlys_machen_theater/basel\nQuelle: https://www.guidle.com
SUMMARY:Experiment Schneuwly - Schneuwlys machen Theater
PRIORITY:5
X-MICROSOFT-CDO-IMPORTANCE:1
CLASS:PUBLIC
BEGIN:VALARM
TRIGGER:-P1D
ACTION:DISPLAY
DESCRIPTION:Reminder
END:VALARM
END:VEVENT
END:VCALENDAR