BEGIN:VCALENDAR
PRODID:-//Microsoft Corporation//Outlook 11.0 MIMEDIR//EN
VERSION:2.0
METHOD:PUBLISH
BEGIN:VEVENT
DTSTART:20260423T173000
DTEND:20260423T193000
LOCATION:8400 Winterthur
TRANSP:OPAQUE
SEQUENCE:0
UID:40403e05-198d-488d-80e3-c13944414ef6-0
DTSTAMP:20260423T173000
DESCRIPTION:Winterthur ist nicht nur Arbeiter:innen- und Kulturstadt, sondern auch Bierstadt. Soziale Themen, Kultur und Bier haben in Winterthur erstaunlich grosse Schnittmengen. Wir besuchen Orte, die für Winterthur und das Winterthurer Bier von Bedeutung waren oder noch immer sind. Die Geschichte geht von der ersten Brauerei in der Obergasse über die noch immer sicht- und spürbaren Vermächtnisse der Brauerei Haldengut bis zu den aktuellen Craft-Bier-Szene. Es wird aber nicht nur um Winterthur, sondern auch um das Getränk selbst und vor allem den Genuss gehen. Auf unserem Spaziergang durch die Altstadt werden verschiedene Biere degustiert und Informationen zu Stil und zur Brauerei weitergegeben.  \nKonzeption unterstützt durch: Kultur Komitee Winterthur\n\n6x 0,5dl Bier und ein Degustationsglas\n\nca. 2 Stunden\n\nCHF 47.- pro Ticket \nauch alkoholfrei möglich \nnur Vorverkauf, keine Abendkasse  \nMindestanzahl: 4 Personen \nAvec Plaisir informiert spätestens 24 Stunden vor der Veranstaltung, wenn diese NICHT durchgeführt wird.  \nwww.avecplaisir-kuk.ch\n\nAlte Kaserne Kulturzentrum, Foyer \nTechnikumstrasse 8 \n8400 Winterthur \nBitte 10 Minuten vor dem Start beim Treffpunkt sein\n\nKontakt\nAvec Plaisir - Kultur & Kulinarik\nBrühlgartenstrasse 10\n8400 Winterthur\n+41\n\nVerfügbarkeit / Datum, Zeit\n23.4.2026 17:30 - 19:30\n8.5.2026 17:30 - 19:30\n30.5.2026 16:00 - 18:00\n20.6.2026 16:00 - 18:00\n29.8.2026 16:00 - 18:00\n10.9.2026 17:30 - 19:30\n2.10.2026 17:30 - 19:30\n\nPreis\nMit Alkohol: 47.00 CHF\nOhne Alkohol: 47.00 CHF\n\nVorverkauf\nhttps://winterthur.com/de/shop/erlebnis-shop.html#/experience/TDS00020016032289416?globalReset=1\n\n\nDas Angebot im Detail: https://www.guidle.com/angebote/1228038251/bier_i_kultur_i_winterthur_-_ein_genussspaziergang/winterthur\nQuelle: www.guidle.com
SUMMARY:Bier I Kultur I Winterthur - ein Genussspaziergang
PRIORITY:5
X-MICROSOFT-CDO-IMPORTANCE:1
CLASS:PUBLIC
BEGIN:VALARM
TRIGGER:-P1D
ACTION:DISPLAY
DESCRIPTION:Reminder
END:VALARM
END:VEVENT
END:VCALENDAR