BEGIN:VCALENDAR
PRODID:-//Microsoft Corporation//Outlook 11.0 MIMEDIR//EN
VERSION:2.0
METHOD:PUBLISH
BEGIN:VEVENT
DTSTART:20260711T101500
DTEND:20260711T150000
LOCATION:Bioweingut Roland & Karin Lenz In Iselisberg 23, 8524 Uesslingen
TRANSP:OPAQUE
SEQUENCE:0
UID:a16279a0-167e-460b-89ca-d73737bc83d1-0
DTSTAMP:20260711T101500
DESCRIPTION:Im Fokus stehen:\nLebendiger Boden mit einem gesunden Bodenmikrobiom – Landschaftsgestaltung – die Pflanze als Wunderwerk – Tiere und Nutztiere – Mensch und Klima\n\n- Wanderung von ca. 4km rund um den Burg- Fahr- Mönchhof und Abt\n- 10:15 Uhr Besammlung auf dem Bioweingut Lenz – Fahrt zum Abt mit Rundgang, Fahrt zurück, anschliessend gemeinsamer Apéro Riche.\n- Ende ca. 15:00 Uhr\n\nWeitere Informationen und Anmeldung auf der Webseite unter Künftige Anlässe\n\nhttps://www.weingut-lenz.ch/anlaesse/kuenftige-anlaesse\n\nKontakt\nBioweingut Roland & Karin Lenz\nBioweingut Roland & Karin Lenz\nRoland und Karin Lenz\nIn Iselisberg\n23\n8524 Uesslingen\n0527461386\n\nVerfügbarkeit / Datum, Zeit\n11.7.2026 10:15 - 15:00\n\nPreis\nCHF 55.00 pro Person\n\nVorverkauf\nhttps://www.weingut-lenz.ch/anlaesse/kuenftige-anlaesse\n\n\nDas Angebot im Detail: https://www.guidle.com/angebote/1228252222/gefuhrter_sommerspaziergang_durch_eine_vielfaltige_kulturlandschaft/uesslingen\nQuelle: https://www.guidle.com
SUMMARY:Geführter Sommerspaziergang durch eine vielfältige Kulturlandschaft
PRIORITY:5
X-MICROSOFT-CDO-IMPORTANCE:1
CLASS:PUBLIC
BEGIN:VALARM
TRIGGER:-P1D
ACTION:DISPLAY
DESCRIPTION:Reminder
END:VALARM
END:VEVENT
END:VCALENDAR