BEGIN:VCALENDAR
PRODID:-//Microsoft Corporation//Outlook 11.0 MIMEDIR//EN
VERSION:2.0
METHOD:PUBLISH
BEGIN:VEVENT
DTSTART:20261106T200000
LOCATION:Theater Fauteuil - Tabourettli Spalenberg 12, 4051 Basel
TRANSP:OPAQUE
SEQUENCE:0
UID:5872e83c-6dc2-4e06-b577-33fda2b03695-0
DTSTAMP:20261106T200000
DESCRIPTION:Obwohl Rebers links und reich ist, wird er in der Berliner Republik als arm und rechts gelesen. Jetzt fühlt er sich politisch verfolgt, dem Altersrassismus ausgesetzt und sucht nun in der Schweiz Schutz und künstlerische Anerkennung. Rebers will keine Unterstützung, oder Hilfe. Er will einfach nur in der Schweiz arbeiten, bzw. spielen. Und alles, was er braucht, bringt er mit. Sein Akkordeon, sein E-Piano und ein eigenes Programm, in dem sie alles über Deutschland erfahren, was sie schon immer einmal gerne gewusst hätten.\n\nhttps://www.fauteuil.ch\n\nKontakt\nTheater Fauteuil\nSpalenberg 12\n4051 Basel\n+41 61 261 26 10\n\nVerfügbarkeit / Datum, Zeit\n6.11.2026 20:00 - \n\nPreis\nCHF 49.00 / 59.00\n\nVorverkauf\nTheaterkasse am Spalenberg 12, Telefon 061 261 26 10\nhttps://www.fauteuil.ch/spielplan/i-gang-grad-wieder/\n\n\nDas Angebot im Detail: https://www.guidle.com/angebote/1228591246/andreas_rebers_-_i_gang_grad_wieder/basel\nQuelle: https://www.guidle.com
SUMMARY:Andreas Rebers - I gang grad wieder
PRIORITY:5
X-MICROSOFT-CDO-IMPORTANCE:1
CLASS:PUBLIC
BEGIN:VALARM
TRIGGER:-P1D
ACTION:DISPLAY
DESCRIPTION:Reminder
END:VALARM
END:VEVENT
END:VCALENDAR