BEGIN:VCALENDAR
PRODID:-//Microsoft Corporation//Outlook 11.0 MIMEDIR//EN
VERSION:2.0
METHOD:PUBLISH
BEGIN:VEVENT
DTSTART:20260503T110000
DTEND:20260503T140000
LOCATION:Seminarhaus am Hofplatz, Grosser Saal, 2. OG Hofplatz 7, 9220 Bischofszell
TRANSP:OPAQUE
SEQUENCE:0
UID:8e283059-ef7b-4b7d-87aa-209952eb659d-0
DTSTAMP:20260503T110000
DESCRIPTION:Die „Resonanzen des Lebens“-Wochenenden bieten einen geschützten Rahmen, um über Klang, Körperwahrnehmung und kreativen Ausdruck in Kontakt mit sich selbst zu kommen. Der erste Teil, die "Klanglandschaften des Körpers" (findet am Samstag vor diesem Sonntag statt - siehe entspr. Annonce), widmet sich jeweils einem bestimmten Organ oder Körperbereich. Durch Klänge, Rhythmen und feine Vibrationen entsteht ein Raum, in dem die Teilnehmenden die Resonanz und innere Dynamik dieses Bereichs erforschen und ihre Wahrnehmung vertiefen können.\n\nOpen Heart Space - offener Herzraum\nIm zweiten Tag des Wochenendes öffnet sich mit dem Open Heart Space ein Raum für persönlichen Ausdruck und achtsame Begegnung.\n\nEs ist ein Raum, in dem du entscheiden kannst, wie viel du zeigen möchtest. Du kannst still bleiben und einfach beobachten. Du kannst dich einbringen – mit einem Wort, einem Ton, einem Schritt, vielleicht auch einem Lied, oder du willst tanzen... Es geht nicht um Performance. Es geht um Echtheit. Um kleine, ehrliche Momente.\n\nZwischendurch gibt es eine kleine Snackpause.\n\nDie beiden Teile (Samstag und Sonntag) bauen inhaltlich aufeinander auf und ergänzen sich, können jedoch auch unabhängig voneinander besucht werden. Das Angebot richtet sich an Menschen, die sich selbst näherkommen möchten, neue Ausdrucksformen entdecken wollen oder eine Auszeit in einem wertschätzenden Umfeld suchen.\n\nEs sind keine besonderen Fähigkeiten nötig – nur die Bereitschaft, sich Zeit für sich zu nehmen.\n\nWir freuen uns auf dich.\n\nhttps://www.enn-institut.ch/resonanzen-des-lebens\n\nKontakt\nenn-institut\nSonja Elina und Rainer Griefahn\nHofplatz 7\n1. OG\n9220 Bischofszell\n0719711636\n0762147072\n\nVerfügbarkeit / Datum, Zeit\n3.5.2026 11:00 - 14:00\n7.6.2026 11:00 - 14:00\n5.7.2026 11:00 - 14:00\n2.8.2026 11:00 - 14:00\n6.9.2026 11:00 - 14:00\n4.10.2026 11:00 - 14:00\n1.11.2026 11:00 - 14:00\n6.12.2026 11:00 - 14:00\n\nPreis\nCHF 35.00 bis 50.00 (Kollekte)\n\n\nDas Angebot im Detail: https://www.guidle.com/angebote/1228760576/missa_solluna_-_open_heart_space/bischofszell\nQuelle: https://www.guidle.com
SUMMARY:missa solluna - open heart space
PRIORITY:5
X-MICROSOFT-CDO-IMPORTANCE:1
CLASS:PUBLIC
BEGIN:VALARM
TRIGGER:-P1D
ACTION:DISPLAY
DESCRIPTION:Reminder
END:VALARM
END:VEVENT
END:VCALENDAR