BEGIN:VCALENDAR
PRODID:-//Microsoft Corporation//Outlook 11.0 MIMEDIR//EN
VERSION:2.0
METHOD:PUBLISH
BEGIN:VEVENT
DTSTART:20260916
LOCATION:Strohhotel Bodensee Kratzern 39, 9320 Arbon
TRANSP:OPAQUE
RRULE:FREQ=WEEKLY;INTERVAL=1;WKST=MO;BYDAY=MO,TU,WE,TH,FR,SA,SU
UID:f6d2429c-c504-40dc-90f4-25738c7f041e-0
DTSTAMP:20260916T120000
DESCRIPTION:Seit jeher führt unsere Familie einen Landwirtschaftsbetrieb mit Milchwirtschaft und Streuobstbau am wunderschönen Bodensee. Das milde Klima haben die Pfahlbauer schon für Obstanbau genutzt. Die letzten Hochstammgärten dieser langen Tradition prägen auch heute noch unsere Region Mostindien. Diese dadurch enstandene liebliche Landschaft bietet Ihnen als Gäste eine einmalige erholsame Kulisse mit unendlichen Erlebnisfaktoren des sanften Tourismus. Da ist der See, die vielen Nebenstrassen mit den schmucken Thurgauerdörfchen, die Burgen und Schlösser, die kleinen Städte mit ihren historischen Bauten, die einen idyllischen Hintergrund bieten und zum Besuch einladen. Vom Frühling bis in den Herbst ist es einfach wunderschön bei uns im Mostland. Darum möchten wir Ihnen ein Zuhause anbieten, sei es für eine oder mehrere Nächte oder ferienhalber im Stroh, Matratze oder Bett. Ob Heu oder Stroh, kuschlig ist's alleweil.\n\nhttp://www.strohhotelbodensee.ch\n\nKontakt\nStrohhotel Bodensee\nCorina Stäheli\nGastgeberin\nKratzern 39\n9320 Arbon\n076 307 54 55\n\nVerfügbarkeit / Datum, Zeit\n16.9.2026 -  \n\nAnkunft täglich zwischen 17 und 19 Uhr. Unsere Saison dauert von Ostern bis Mitte September. \nBitte melden Sie Ihre Übernachtung vorgängig an. So sind auch Übernachtungen und Ankunftszeiten ausserhalb der regulären Angaben möglich.\n\nPreis\nPREIS PRO PERSON / NACHT INKL. FRÜHSTÜCK für Schlafen im Stroh, im Matratzenlager und in den Zimmern. \nErwachsene: ab CHF 35\nKinder: ab CHF 25\nDie aktuellen Preise pro Kategorie finden Sie auf unserer Webseite www.strohhotelbodensee.ch. Preise für Schulklassen auf Anfrage. \nDie Ferienwohnung mit 4 Betten kostet CHF 100/Nacht + CHF 70 für die Endreinigung und ggf. CHF 10/Bett für die Bettwäsche + ggf. CHF 10/Person/Nacht für das Frühstück.\n\n\nDas Angebot im Detail: https://www.guidle.com/angebote/1228783235/strohhotel_bodensee_schlafen_im_stroh_zimmer_matratzenlager__ferienwohnung/arbon\nQuelle: https://www.guidle.com
SUMMARY:Strohhotel Bodensee: Schlafen im Stroh, Zimmer, Matratzenlager & Ferienwohnung
PRIORITY:5
X-MICROSOFT-CDO-IMPORTANCE:1
CLASS:PUBLIC
BEGIN:VALARM
TRIGGER:-P1D
ACTION:DISPLAY
DESCRIPTION:Reminder
END:VALARM
END:VEVENT
END:VCALENDAR