BEGIN:VCALENDAR
PRODID:-//Microsoft Corporation//Outlook 11.0 MIMEDIR//EN
VERSION:2.0
METHOD:PUBLISH
BEGIN:VEVENT
DTSTART:20260429T200000
DTEND:20260429T223000
LOCATION:Kulturzentrum Presswerk Hamelstrasse 15, 9320 Arbon
TRANSP:OPAQUE
SEQUENCE:0
UID:8e6a0bf7-6277-4ab8-a99a-64456bd9ae5e-0
DTSTAMP:20260429T200000
DESCRIPTION:Für Lacher, Stimmung und eine ordentliche Portion «Bauchweh» sorgen das beliebte Ostschweizer Comedy Duo Messer&Gabel, das Comedy-Chamäleon Sepp Manser, das Multitalent Nico Arn und der Senkrechtstarter Sascha Schnellmann.\n\nWer es vielseitig, geradeheraus und sauwitzig mag, der ist bei Glatti Cheibe - Buuchweh-Tour genau richtig. \n\nFrech, hiesig und echt.\n\nhttps://www.glatticheibe.ch/\n\nVerfügbarkeit / Datum, Zeit\n29.4.2026 20:00 - 22:30\n\nVorverkauf\nHomepage Glatti Cheibe Termine\nhttps://www.glatticheibe.ch/termine\n\n\nDas Angebot im Detail: https://www.guidle.com/angebote/1229005181/comedy_ensemble_glatti_cheibe_-_buuchwehtour/arbon\nQuelle: https://www.guidle.com
SUMMARY:Comedy Ensemble Glatti Cheibe - Buuchwehtour
PRIORITY:5
X-MICROSOFT-CDO-IMPORTANCE:1
CLASS:PUBLIC
BEGIN:VALARM
TRIGGER:-P1D
ACTION:DISPLAY
DESCRIPTION:Reminder
END:VALARM
END:VEVENT
END:VCALENDAR