BEGIN:VCALENDAR
PRODID:-//Microsoft Corporation//Outlook 11.0 MIMEDIR//EN
VERSION:2.0
METHOD:PUBLISH
BEGIN:VEVENT
DTSTART:20260422T120000
LOCATION:Praxis Camossi Neuhausstrasse 29, 8600 Dübendorf
TRANSP:OPAQUE
RRULE:FREQ=DAILY;INTERVAL=1
UID:3d03d250-1902-40f3-8441-55622e64b80c-0
DTSTAMP:20260422T120000
DESCRIPTION:Das Wichtigste zu Beginn: in diesem Kurs schreibst du kein Buch über deine Biografie. Du sammelst Erinnerungen und je nachdem, wie tief du gehen möchtest, verarbeitest du wichtige Geschehnisse deines Lebens. Die schriftliche Sammlung an Erinnerungen, die du am Ende haben wirst, stellt eine gute Ausgangslage dar, falls du doch ein Buch schreiben möchtest. \n\nIm Kurs beginnen wir in der Mitte der Lebensspirale - mit deiner Geburt - und sammeln kreisend in Jahrsiebt-Schritten (0-7, 7- 14, 14-21 Jahre usw.) die merk-würdigen Erinnerungen des Lebens ein. Jeder Kursabend ist einem Jahrsiebt gewidmet. Mit kreativen Schreibimpulsen und im Austausch werden Erinnerungen hervorgeholt, sichtbar gemacht, in eine Essenz gebracht und du verlässt den Kurs mit einer Schatztruhe voller Sammelstücke deines Lebens. Es ist ein wahrhaftiges und sehr berührendes Geschenk, Sequenzen deiner Lebensgeschichte mit anderen zu teilen und den anderen Lebensgeschichten zu lauschen - sei es im Vorlesen oder Erzählen. \n\n Für wen ist dieser Schreibkurs geeignet?\nViele Menschen ab 40 Jahren verspüren den Wunsch oder das Bedürfnis, sich vertieft mit ihrem bisherigen Leben - ihrer Biografie - auseinander zu setzen. Vielleicht um Erkenntnisse über sich selber zu erhalten, den roten Faden im eigenen Leben zu erkennen, Versöhnung und Frieden mit Themen zu finden oder für eine Standortbestimmung, wie es weiter gehen darf.\n\nFrauen in den Wechsel-/Wandeljahren lege ich eine solche Biografie-Arbeit wärmstens ans Herz.\n\nhttps://www.schreibpraxis.ch/kurse-vor-ort/biografie-schreibkurs\n\nKontakt\nPraxis Camossi\nElisabeth Camossi\nNeuhausstrasse 29\n8600 Dübendorf\n078 751 61 44\n\nWir treffen uns 8 Abende zu 3 Stunden\nDie aktuellen Kursdaten findest unter du https://www.schreibpraxis.ch/kurse-vor-ort/biografie-schreibkurs \n\nPreis\nCHF 480.- für den ganzen Kurs inkl. Unterlagen\n\nVorverkauf\nhttps://www.schreibpraxis.ch/kurse-vor-ort/biografie-schreibkurs\n\n\nDas Angebot im Detail: https://www.guidle.com/angebote/1229439317/biografie-schreibkurse/dubendorf\nQuelle: www.guidle.com
SUMMARY:Biografie-Schreibkurse
PRIORITY:5
X-MICROSOFT-CDO-IMPORTANCE:1
CLASS:PUBLIC
BEGIN:VALARM
TRIGGER:-P1D
ACTION:DISPLAY
DESCRIPTION:Reminder
END:VALARM
END:VEVENT
END:VCALENDAR