BEGIN:VCALENDAR
PRODID:-//Microsoft Corporation//Outlook 11.0 MIMEDIR//EN
VERSION:2.0
METHOD:PUBLISH
BEGIN:VEVENT
DTSTART:20260509T170000
DTEND:20260509T174500
LOCATION:Bildungszentrum für Technik Frauenfeld Kurzenerchingerstrasse 8, 8500 Frauenfeld
TRANSP:OPAQUE
SEQUENCE:0
UID:4ca1b261-f3ec-447d-b93f-da9318537ded-0
DTSTAMP:20260509T170000
DESCRIPTION:Im Zauberwald beschützt Bonnie Flix mit den Zwergen Gwendolin und Goldllöckli die Märchentruhe. Deren Inhalt ist für das Fortbestehen aller Märchen unabdingbar. Sie enthält nämlich alle Gegenstände, welche für Märchen wichtig sind. Immer, wenn eines erzählt wird, kommen die Protagonisten und holen sich ihre Utensilien bei Bonnie. Die Hexe Lupinia ist hinter dieser Truhe her. Sie will sie zerstören, so dass am Ende nur noch ihr eigenes, böses Märchen existiert. Leider mischt auch der Teufel kräftig mit. Der will zwar nicht die Märchentruhe, sondern eine Menschenseele, doch dazu ist ihm jedes Mittel recht. Aber die gewitzte Bonnie lässt sich nicht so leicht austricksen.\n\nhttps://www.theaterworks.ch\n\nKontakt\nJörg Bernhard\nThurstr. 15A\n8500 Frauenfeld\n\nVerfügbarkeit / Datum, Zeit\n9.5.2026 17:00 - 17:45\n10.5.2026 14:30 - 15:15\n\nSaalöffnung 30min. vor Vorstellungsbeginn\n\nPreis\nEintritt frei, Kollekte\n\nVorverkauf\nhttps://www.theaterworks.ch/aktuell/bonnie-flix-und-die-märchenpiraten/\n\n\nDas Angebot im Detail: https://www.guidle.com/angebote/1229547501/bonnie_flix_und_die_marchenpiraten/frauenfeld\nQuelle: https://www.guidle.com
SUMMARY:Bonnie Flix und die Märchenpiraten
PRIORITY:5
X-MICROSOFT-CDO-IMPORTANCE:1
CLASS:PUBLIC
BEGIN:VALARM
TRIGGER:-P1D
ACTION:DISPLAY
DESCRIPTION:Reminder
END:VALARM
END:VEVENT
END:VCALENDAR