BEGIN:VCALENDAR
PRODID:-//Microsoft Corporation//Outlook 11.0 MIMEDIR//EN
VERSION:2.0
METHOD:PUBLISH
BEGIN:VEVENT
DTSTART:20260920T101500
DTEND:20260920T163000
LOCATION:Montessori Schule "Bildung mit Weitblick" Bernrainstr. 69, 8280 Kreuzlingen
TRANSP:OPAQUE
SEQUENCE:0
UID:beb26485-ba0d-4738-98ff-c3134e6a5569-0
DTSTAMP:20260920T101500
DESCRIPTION:Du hast es geschafft einen runden Korb dein Eigen zu nennen und suchst nach einer neuen Herausforderung? Dann lass uns loslegen! Mit Gräsern und Kräutern erschaffst du einen einzigartiger duftenden ovalen Graskorb – Schritt für Schritt, mit Muskelkraft und Freude am Handwerk und Gefühl für das Material. – Für Erwachsene und Jugendliche ab 14 Jahren\n\nSpätsommer in der Luft:\nwilde Minze, würzige Schafgarbe und warmes, sonniges Gras. Genau so riecht unser Workshop.\n\nVom lebendigen Gras über viele Hände und Schritte bis zu einem fertigen Lieblingsstück. Die Vorbereitung übernehmen wir, damit du direkt loslegen kannst.\n\nIm Kurs wird’s praktisch.\n\nDu arbeitest mit echtem Süssgras, das sorgfältig und respektvoll geerntet wurde. Keine Massenware, sondern Natur mit Geschichte. \n\nDann kommen deine Hände ins Spiel:\nziehen, drehen, fühlen.\nHalm für Halm entsteht dein Korb. Ganz ohne Stress, aber mit Flow. Während du arbeitest, wird der Kopf ruhig, der Duft von Gras liegt in der Luft und plötzlich bist du voll im Moment.\n\nDu gehst nicht nur mit einem Korb nach Hause.\nDu nimmst ein Stück Natur, ein altes Handwerk und dieses besondere Spätsommer-Gefühl mit.\n\nBringe für das Hauptgericht vom offenen Feuer einen vegetarischen Beitrag als Teilete für das gemeinsame Zmittag-Buffet mit und geniesse den Tag mit allen Sinnen.\n\nhttps://www.feroxnaturaartis.ch/startseite/\n\nKontakt\nFerox Natura Artis\nNadja Hillgruber\n8280  Kreuzlingen\n\nVerfügbarkeit / Datum, Zeit\n20.9.2026 10:15 - 16:30\n\nPreis\nErwachsene und Jugendliche ab 14 Jahren 140,- CHF pro Person\n\nVorverkauf\nhttps://www.feroxnaturaartis.ch/termine/\n\n\nDas Angebot im Detail: https://www.guidle.com/angebote/1229547514/altes_handwerk__oval_umgesetzt/kreuzlingen\nQuelle: https://www.guidle.com
SUMMARY:Altes Handwerk – Oval umgesetzt
PRIORITY:5
X-MICROSOFT-CDO-IMPORTANCE:1
CLASS:PUBLIC
BEGIN:VALARM
TRIGGER:-P1D
ACTION:DISPLAY
DESCRIPTION:Reminder
END:VALARM
END:VEVENT
END:VCALENDAR