BEGIN:VCALENDAR
PRODID:-//Microsoft Corporation//Outlook 11.0 MIMEDIR//EN
VERSION:2.0
METHOD:PUBLISH
BEGIN:VEVENT
DTSTART:20260605T190000
DTEND:20260605T210000
LOCATION:Hallenbad Egelsee, Haupteingang Hauptstrasse 88a, 8280 Kreuzlingen
TRANSP:OPAQUE
SEQUENCE:0
UID:f774feea-ee48-4ea2-91fd-6a284b5571e3-0
DTSTAMP:20260605T190000
DESCRIPTION:In den letzten Jahren sind verschiedene Flachdächer naturnah begrünt worden. Mit überraschend einfachen Methoden wurden auf den Dächern Lebensräume geschaffen, die ihresgleichen suchen: Seltene Orchideen oder eine grosse Insektenvielfalt erscheinen schon nach wenigen Jahren mitten in der Stadt. An der Exkursion können verschiedene dieser sehr spannenden Lebensräume auf dem Dach besichtigt werden. Die Verschiebung zwischen den einzelnen Gebäuden erfolgt individuell, am besten per Velo.\n\nVelo mitnehmen\n\nKontakt\nBauverwaltung\nHauptstrasse 88\n8280 Kreuzlingen\n071 677 64 10\n\nVerfügbarkeit / Datum, Zeit\n5.6.2026 19:00 - 21:00\n\nPreis\nkeine Kosten\n\n\nDas Angebot im Detail: https://www.guidle.com/angebote/1229627246/auf_den_grunen_dachern_von_kreuzlingen/kreuzlingen\nQuelle: https://www.guidle.com
SUMMARY:Auf den grünen Dächern von Kreuzlingen
PRIORITY:5
X-MICROSOFT-CDO-IMPORTANCE:1
CLASS:PUBLIC
BEGIN:VALARM
TRIGGER:-P1D
ACTION:DISPLAY
DESCRIPTION:Reminder
END:VALARM
END:VEVENT
END:VCALENDAR